BEGIN:VCALENDAR
VERSION:2.0
PRODID:-//hacksw/handcal//NONSGML v1.0//EN
BEGIN:VEVENT
UID:52536ce294e09f0fde7fa7a88eb89b7d
DTSTAMP:20260420T060910Z

DTSTART:20190808T213000
DTEND:20190809T013000
SUMMARY:Bridgeland Riverside Farmers' Market 16
DESCRIPTION:Are you ready to enjoy artisan inspired products and\nlocal food?\nOutdoor market launches&nbsp;Thursday, June 20th&nbsp;at&nbsp;3:30 until 7:30pm. Will run every Thursday through the summer until the end of September. To help kick off our summer season, we have the Nova Scotiables bringing their high energy Maritime music, Jamie Allanach's accoustic covers, fun summer crafts for kids, and amazing vendors.&nbsp; Find us in the courtyard behind the BRCA Hall - 917 Centre Ave, NE.\nGreat weekly selections of vendors, live music, face painting, food trucks and more.&nbsp;\nGrab a blanket from the main table and have a picinic while you are there!

X-ALT-DESC;FMTTYPE=text/html:<!DOCTYPE HTML PUBLIC "-//W3C//DTD HTML 3.2//EN">\n<HTML>\n<HEAD>\n<META NAME="Generator" CONTENT="MS Exchange Server version 08.00.0681.000">\n<TITLE></TITLE>\n</HEAD>\n<BODY>\n<!-- Converted from text/rtf format -->\n\n<h2>Are you ready to enjoy artisan inspired products and</h2><br /><h2>local food?</h2><br /><p>Outdoor market launches&nbsp;<strong>Thursday, June 20th</strong>&nbsp;at&nbsp;<strong>3:30 until 7:30pm</strong>. Will run every Thursday through the summer until the end of September. To help kick off our summer season, we have the Nova Scotiables bringing their high energy Maritime music, Jamie Allanach's accoustic covers, fun summer crafts for kids, and amazing vendors.&nbsp; Find us in the courtyard behind the BRCA Hall - 917 Centre Ave, NE.</p><br /><p>Great weekly selections of vendors, live music, face painting, food trucks and more.&nbsp;</p><br /><p>Grab a blanket from the main table and have a picinic while you are there!</p>\n\n</BODY>\n</HTML>

LOCATION:917 Centre Ave NE, Calgary, AB T2E 0C6, Canada
END:VEVENT

END:VCALENDAR
