BEGIN:VCALENDAR
VERSION:2.0
PRODID:-//hacksw/handcal//NONSGML v1.0//EN
BEGIN:VEVENT
UID:7bb417208ee113e7d03eb56d16bf1d09
DTSTAMP:20260420T183142Z

DTSTART:20251121T160000
DTEND:20251122T160000
SUMMARY:Balzac Christmas Market 2025 - Balzac Alberta Canada
DESCRIPTION:The 2025 Balzac Christmas Market will be held on Friday, November 21st, and Saturday, November 22nd, in Balzac, Alberta, Canada.\n\nGet ready for the ultimate Christmas shopping destination! \nThe Balzac Christmas Market 2025 is a festive 2-day event packed with unique gifts, handmade crafts, and homemade baked goods, perfect for gift giving and checking off everyone on your list.\n\nChristmas Market Dates & Times\nFriday, November 21, 2025 - 4 PM – 8 PM\nSaturday, November 22, 2025 - 10 AM – 4 PM\n\nWhat You'll Find\n*One-of-a-kind handmade crafts from talented local artisans\n*Beautiful jewelry, cozy clothing, and thoughtful holiday gifts\n*Delicious homemade baked goods to enjoy or share\n*A warm, welcoming atmosphere that celebrates supporting local businesses\n\nWhether you're hunting for the perfect stocking stuffer or a show-stopping centerpiece, the Balzac Christmas Market has something for everyone. \nCome celebrate the season, support your community, and make your holiday shopping magical.\n\n1 km East of the Days Inn behind Rockyview Costco - GYM 4031, 292120 Wagon Wheel Blvd, Rocky View County, AB \n*Free parking available on-site

X-ALT-DESC;FMTTYPE=text/html:<!DOCTYPE HTML PUBLIC "-//W3C//DTD HTML 3.2//EN">\n<HTML>\n<HEAD>\n<META NAME="Generator" CONTENT="MS Exchange Server version 08.00.0681.000">\n<TITLE></TITLE>\n</HEAD>\n<BODY>\n<!-- Converted from text/rtf format -->\n\nThe 2025 Balzac Christmas Market will be held on Friday, November 21st, and Saturday, November 22nd, in Balzac, Alberta, Canada.<br /><br />Get ready for the ultimate Christmas shopping destination! <br />The Balzac Christmas Market 2025 is a festive 2-day event packed with unique gifts, handmade crafts, and homemade baked goods, perfect for gift giving and checking off everyone on your list.<br /><br />Christmas Market Dates & Times<br />Friday, November 21, 2025 - 4 PM – 8 PM<br />Saturday, November 22, 2025 - 10 AM – 4 PM<br /><br />What You'll Find<br />*One-of-a-kind handmade crafts from talented local artisans<br />*Beautiful jewelry, cozy clothing, and thoughtful holiday gifts<br />*Delicious homemade baked goods to enjoy or share<br />*A warm, welcoming atmosphere that celebrates supporting local businesses<br /><br />Whether you're hunting for the perfect stocking stuffer or a show-stopping centerpiece, the Balzac Christmas Market has something for everyone. <br />Come celebrate the season, support your community, and make your holiday shopping magical.<br /><br />1 km East of the Days Inn behind Rockyview Costco - GYM 4031, 292120 Wagon Wheel Blvd, Rocky View County, AB <br />*Free parking available on-site\n\n</BODY>\n</HTML>

LOCATION:Pratts Food Service Alberta, Wagon Wheel Road, Wagon Wheel Industrial Park, Balzac Industrial Park, Rocky View County, Alberta, T4A 0S3, Canada
END:VEVENT

END:VCALENDAR
