BEGIN:VCALENDAR
VERSION:2.0
PRODID:-//hacksw/handcal//NONSGML v1.0//EN
BEGIN:VEVENT
UID:4d951fcfd69e48411dbc5750ff8eb7d3
DTSTAMP:20260421T083050Z

DTSTART:20250523T110000
DTEND:20250525T170000
SUMMARY:Barrie Waterfront Festival 2025 - Barrie, Ontario, Canada
DESCRIPTION:Barrie Waterfront Festival 2025 will be held from Friday, May 23rd to Sunday, May 25th, at Centennial Park, Barrie, Ontario, Canada.\n\nThe Barrie Waterfront Festival is a free event at Centennial Park with incredible musical acts, food trucks, vendors, and a children’s fun zone! \nThe 20th Annual Barrie Waterfront Festival will feature bands like the AC/DC Show – Canada, Toronto All Star Big Band, Floydium, and more. \n\nAdmission is free.\n\nBarrie Waterfront Festival 2025 Lineup\n\nFriday, May 23rd\n7:00 PM – Boneyard (Classic Rock)\n8:30 PM – The Bomb (80’s Tribute)\n\nSaturday, May 24th\nNOON – Philcos\n2:00 PM – Madhaus\n4:00 PM – Bootleg Creedence\n(CCR Tribute)\n6:00 PM – Pearl Jamming\n8:00 PM – Zepology (Led Zeppelin Tribute)\n(Pearl Jam Tribute)\n\nSunday, May 25th\nNOON – Crooked Zebras\n2:30 PM – Wayward Saints\n4:00 PM – Overture (Rush Tribute)\n5:30 PM – AC/DC Canada (AC/DC Tribute)\n\n*Wheelchair accessible\n*Free Parking\n

X-ALT-DESC;FMTTYPE=text/html:<!DOCTYPE HTML PUBLIC "-//W3C//DTD HTML 3.2//EN">\n<HTML>\n<HEAD>\n<META NAME="Generator" CONTENT="MS Exchange Server version 08.00.0681.000">\n<TITLE></TITLE>\n</HEAD>\n<BODY>\n<!-- Converted from text/rtf format -->\n\nBarrie Waterfront Festival 2025 will be held from Friday, May 23rd to Sunday, May 25th, at Centennial Park, Barrie, Ontario, Canada.<br /><br />The Barrie Waterfront Festival is a free event at Centennial Park with incredible musical acts, food trucks, vendors, and a children’s fun zone! <br />The 20th Annual Barrie Waterfront Festival will feature bands like the AC/DC Show – Canada, Toronto All Star Big Band, Floydium, and more. <br /><br />Admission is free.<br /><br />Barrie Waterfront Festival 2025 Lineup<br /><br />Friday, May 23rd<br />7:00 PM – Boneyard (Classic Rock)<br />8:30 PM – The Bomb (80’s Tribute)<br /><br />Saturday, May 24th<br />NOON – Philcos<br />2:00 PM – Madhaus<br />4:00 PM – Bootleg Creedence<br />(CCR Tribute)<br />6:00 PM – Pearl Jamming<br />8:00 PM – Zepology (Led Zeppelin Tribute)<br />(Pearl Jam Tribute)<br /><br />Sunday, May 25th<br />NOON – Crooked Zebras<br />2:30 PM – Wayward Saints<br />4:00 PM – Overture (Rush Tribute)<br />5:30 PM – AC/DC Canada (AC/DC Tribute)<br /><br />*Wheelchair accessible<br />*Free Parking<br />\n\n</BODY>\n</HTML>

LOCATION:Centennial Park., Lakeshore Dr, Barrie, ON L4N 2M6, Canada
END:VEVENT

END:VCALENDAR
