BEGIN:VCALENDAR
VERSION:2.0
PRODID:-//hacksw/handcal//NONSGML v1.0//EN
BEGIN:VEVENT
UID:38835cf88104d9b0e529d1c24820d540
DTSTAMP:20260424T234611Z

DTSTART:20250523T110000
DTEND:20250528T170000
SUMMARY:Cathedral Village Arts Festival 2025 - Regina Saskatchewan Canada - 23.05.2025
DESCRIPTION:Cathedral Village Arts Festival 2025 will be held Monday, May 19th to Saturday, May 24th in the Cathedral Neighbourhood, in Regina, Saskatchewan, Canada.\n\n\nThe 2025 Cathedral Village Arts Festival is a week-long celebration of the arts, life, and community spirit.\nThe Festival begins with a Parade and Picnic in the Park, and on Saturday, 13th Avenue will be alive for the popular Street Fair. \nVendors, Food, and Fun for the whole family!\nThis event has an attendance of over 40,000 visitors every year, with large outdoor events and multiple live entertainment performances.\nEvents are FREE to attend with a donation at the door.\n\n\n\n

X-ALT-DESC;FMTTYPE=text/html:<!DOCTYPE HTML PUBLIC "-//W3C//DTD HTML 3.2//EN">\n<HTML>\n<HEAD>\n<META NAME="Generator" CONTENT="MS Exchange Server version 08.00.0681.000">\n<TITLE></TITLE>\n</HEAD>\n<BODY>\n<!-- Converted from text/rtf format -->\n\nCathedral Village Arts Festival 2025 will be held Monday, May 19th to Saturday, May 24th in the Cathedral Neighbourhood, in Regina, Saskatchewan, Canada.<br /><br /><br />The 2025 Cathedral Village Arts Festival is a week-long celebration of the arts, life, and community spirit.<br />The Festival begins with a Parade and Picnic in the Park, and on Saturday, 13th Avenue will be alive for the popular Street Fair. <br />Vendors, Food, and Fun for the whole family!<br />This event has an attendance of over 40,000 visitors every year, with large outdoor events and multiple live entertainment performances.<br />Events are FREE to attend with a donation at the door.<br /><br /><br /><br />\n\n</BODY>\n</HTML>

LOCATION:2700 13th Ave, Regina, SK S4T 1N3, Canada
END:VEVENT

END:VCALENDAR
