BEGIN:VCALENDAR
VERSION:2.0
PRODID:-//hacksw/handcal//NONSGML v1.0//EN
BEGIN:VEVENT
UID:60791ea407f05c5017f9e982cdb69849
DTSTAMP:20260419T122350Z

DTSTART:20250419T110000
DTEND:20250419T153000
SUMMARY:Iron Horse Park Bunny Run 2025, Airdrie, Alberta Canada
DESCRIPTION:The 2025 Iron Horse Park Bunny Run is scheduled for Saturday, April 19th at Iron Horse Park in Airdrie, Alberta, Canada.\n\nTrain lovers of all ages, mark your calendar for the 2025 Bunny Run!\nWeather permitting, the Miniature Trains will be running during a fundraiser for the Airdrie Food Bank, taking you on a 1.6 km interpretive journey aboard one of the 1/8th scale steam or diesel locomotives. Kids and adults love riding the Iron Horse Park Trains, and you will support a great cause!\n\nTickets are only $3 a ride - Children UNDER 2 are Free but must be accompanied by an adult. \nKids under 10 must be accompanied by an adult or older person.\n\n****Please bring a non-perishable donation for the Airdrie Food Bank*** \n****Thank you for your support****\n\n\n

X-ALT-DESC;FMTTYPE=text/html:<!DOCTYPE HTML PUBLIC "-//W3C//DTD HTML 3.2//EN">\n<HTML>\n<HEAD>\n<META NAME="Generator" CONTENT="MS Exchange Server version 08.00.0681.000">\n<TITLE></TITLE>\n</HEAD>\n<BODY>\n<!-- Converted from text/rtf format -->\n\nThe 2025 Iron Horse Park Bunny Run is scheduled for Saturday, April 19th at Iron Horse Park in Airdrie, Alberta, Canada.<br /><br />Train lovers of all ages, mark your calendar for the 2025 Bunny Run!<br />Weather permitting, the Miniature Trains will be running during a fundraiser for the Airdrie Food Bank, taking you on a 1.6 km interpretive journey aboard one of the 1/8th scale steam or diesel locomotives. Kids and adults love riding the Iron Horse Park Trains, and you will support a great cause!<br /><br />Tickets are only $3 a ride - Children UNDER 2 are Free but must be accompanied by an adult. <br />Kids under 10 must be accompanied by an adult or older person.<br /><br />****Please bring a non-perishable donation for the Airdrie Food Bank*** <br />****Thank you for your support****<br /><br /><br />\n\n</BODY>\n</HTML>

LOCATION:820 Railway Gate SW, Airdrie, AB T4B 0L4, Canada
END:VEVENT

END:VCALENDAR
