BEGIN:VCALENDAR
VERSION:2.0
PRODID:-//hacksw/handcal//NONSGML v1.0//EN
BEGIN:VEVENT
UID:95e20cfa3d0a012e4a051841da88e4c2
DTSTAMP:20260426T024323Z

DTSTART:20250330T100000
DTEND:20250511T150000
SUMMARY:Pefferlaw Creek Farms Maple Syrup Festival 2025 - Uxbridge, Ontario, Canada - 30.03.2025
DESCRIPTION:The 2025 Pefferlaw Creek Farms Maple Syrup Festival is from Saturday, March 8th to Saturday, April 19th in Uxbridge, Ontario, Canada.\n\nCelebrate Pefferlaw Creek Farms' 10th Maple Syrup Season! \n\nSugar Shack and Tapping Tours, Maple Syrup Tastings, Live Music, Pancake Meal, and Maple Taffy every weekend starting \nMarch 8 & 9 until April 19, from 10 am to 3 pm at the 2025 Pefferlaw Creek Farms Maple Syrup Festival! \n\nOnly $10 per person - Kids Under 12 are FREE - Tickets at the door only\n\n#MapleSyrupFestival #MapleSyrupFestivals2025

X-ALT-DESC;FMTTYPE=text/html:<!DOCTYPE HTML PUBLIC "-//W3C//DTD HTML 3.2//EN">\n<HTML>\n<HEAD>\n<META NAME="Generator" CONTENT="MS Exchange Server version 08.00.0681.000">\n<TITLE></TITLE>\n</HEAD>\n<BODY>\n<!-- Converted from text/rtf format -->\n\nThe 2025 Pefferlaw Creek Farms Maple Syrup Festival is from Saturday, March 8th to Saturday, April 19th in Uxbridge, Ontario, Canada.<br /><br />Celebrate Pefferlaw Creek Farms' 10th Maple Syrup Season! <br /><br />Sugar Shack and Tapping Tours, Maple Syrup Tastings, Live Music, Pancake Meal, and Maple Taffy every weekend starting <br />March 8 & 9 until April 19, from 10 am to 3 pm at the 2025 Pefferlaw Creek Farms Maple Syrup Festival! <br /><br />Only $10 per person - Kids Under 12 are FREE - Tickets at the door only<br /><br />#MapleSyrupFestival #MapleSyrupFestivals2025\n\n</BODY>\n</HTML>

LOCATION:12300 Concession 6, Uxbridge, ON L9P 1R2, Canada
END:VEVENT

END:VCALENDAR
