BEGIN:VCALENDAR
VERSION:2.0
PRODID:-//hacksw/handcal//NONSGML v1.0//EN
BEGIN:VEVENT
UID:079c2ad18442c77810b7b6425c5f5574
DTSTAMP:20260422T090217Z

DTSTART:20190617T120000
DTEND:20190831T120000
SUMMARY:BeadTrails Experience
DESCRIPTION:Tourism Nicola Valley is pleased to announce that Merritt has joined “ The Bead Trails Experience.” This is a fun, affordable Cross Marketing & Branding service created to promote communities & business brands. Visitors are encouraged to explore various BeadTrail locations by using interactive maps and brochures/rack cards, collecting signature beads to create their own bracelet to take home as a memory of their experience. \nTourism is all about the Experience.\n\nThe BeadTrails Experience can be found in over 22 communities, linking the Website of the&nbsp;participating business\n20,000 map brochures are displayed in 190 high profile locations.\n\nEach unique bead will help tell your story and of course your experience. While visiting Merritt and the Nicola Valley a small Guitar is our signature Bead this year.\n\nLocate Merritt on the Online Interactive Map at www.Beadtrails.com and in the BeadTrails BC Brochure\nFind our bead at the Canadian Country Music Hall of Fame, 2025 Quilchena Ave. downtown Merritt\nBracelets and spacer beads are also available for sale.\n\nhttps://experiencenicolavalley.com/

X-ALT-DESC;FMTTYPE=text/html:<!DOCTYPE HTML PUBLIC "-//W3C//DTD HTML 3.2//EN">\n<HTML>\n<HEAD>\n<META NAME="Generator" CONTENT="MS Exchange Server version 08.00.0681.000">\n<TITLE></TITLE>\n</HEAD>\n<BODY>\n<!-- Converted from text/rtf format -->\n\n<p style="margin-bottom: 0cm; line-height: 150%;"><span style="font-family: 'Arial Narrow', serif;"><span style="font-size: medium;"><strong>Tourism Nicola Valley</strong> is pleased to announce that Merritt has joined “ The Bead Trails Experience.” This is a fun, affordable Cross Marketing & Branding service created to promote communities & business brands. Visitors are encouraged to explore various BeadTrail locations by using interactive maps and brochures/rack cards, collecting signature beads to create their own bracelet to take home as a memory of their experience. </span></span></p><br /><p style="margin-bottom: 0cm; line-height: 150%;"><span style="font-family: 'Arial Narrow', serif;"><span style="font-size: medium;"><strong>Tourism is all about the Experience.</strong></span></span></p><br /><ul><br /><li style="margin-bottom: 0cm; line-height: 150%;"><span style="font-family: 'Arial Narrow', serif;"><span style="font-size: medium;"></span></span><span style="font-family: Calibri, serif;"><span style="font-size: small;"><span style="font-family: 'Arial Narrow', serif;">The BeadTrails Experience can be found in over 22 communities, linking the Website of the&nbsp;</span></span></span><span style="font-family: Calibri, serif;"><span style="font-size: small;"><span style="font-family: 'Arial Narrow', serif;">participating business</span></span></span></li><br /><li style="margin-bottom: 0cm; line-height: 150%;"><span style="font-family: Calibri, serif;"><span style="font-size: small;"><span style="font-family: 'Arial Narrow', serif;"></span></span></span><span style="font-family: Calibri, serif;"><span style="font-size: small;"><span style="font-family: 'Arial Narrow', serif;">20,000 map brochures are displayed in 190 high profile locations.</span></span></span></li><br /></ul><br /><p style="margin-bottom: 0cm; line-height: 150%;"><span style="font-family: 'Arial Narrow', serif;"><span style="font-size: medium;">Each unique bead will help tell your story and of course your experience. While visiting Merritt and the Nicola Valley a small Guitar is our signature Bead this year.</span></span></p><br /><ul><br /><li style="margin-bottom: 0cm; line-height: 150%;"><span style="font-family: 'Arial Narrow', serif;"><span style="font-size: medium;"></span></span><span style="font-family: Calibri, serif;"><span style="font-size: small;"><span style="font-family: 'Arial Narrow', serif;">Locate Merritt on the Online Interactive Map at <a href="http://www.Beadtrails.com">www.Beadtrails.com</a> and in the BeadTrails BC Brochure</span></span></span></li><br /><li style="margin-bottom: 0.35cm; line-height: 150%;"><span style="font-family: Calibri, serif;"><span style="font-size: small;"><span style="font-family: 'Arial Narrow', serif;">Find our bead at the Canadian Country Music Hall of Fame, 2025 Quilchena Ave. downtown Merritt</span></span></span></li><br /><li style="margin-bottom: 0.35cm; line-height: 150%;"><span style="font-family: Calibri, serif;"><span style="font-size: small;"><span style="font-family: 'Arial Narrow', serif;"></span></span></span><span style="font-family: Calibri, serif;"><span style="font-size: small;"><span style="font-family: 'Arial Narrow', serif;">Bracelets and spacer beads are also available for sale.</span></span></span></li><br /></ul><br /><p style="margin-bottom: 0cm; text-align: center;"><a href="https://experiencenicolavalley.com/">https://experiencenicolavalley.com/</a></p>\n\n</BODY>\n</HTML>

LOCATION:PO Box 159 1B8, 2025 Quilchena Ave, Merritt, BC, Canada
END:VEVENT

END:VCALENDAR
