BEGIN:VCALENDAR
VERSION:2.0
PRODID:-//hacksw/handcal//NONSGML v1.0//EN
BEGIN:VEVENT
UID:630c34624a9825625544e5d29489949c
DTSTAMP:20260419T225054Z

DTSTART:20250215T100000
DTEND:20250215T150000
SUMMARY:TERRA Greenhouses Winter Market Waterdown Ontario Canada
DESCRIPTION:The 2025 TERRA Winter Market returns to Hamilton and is now at our Waterdown location!\n\nShop Saturdays and experience local vendors amongst the beautiful TERRA plants and people.\n\nGet out of the cold and spend time at TERRA! \n\nSaturdays January 11th to March 15th\n\n10 am - 3 pm\n\nFree Admission

X-ALT-DESC;FMTTYPE=text/html:<!DOCTYPE HTML PUBLIC "-//W3C//DTD HTML 3.2//EN">\n<HTML>\n<HEAD>\n<META NAME="Generator" CONTENT="MS Exchange Server version 08.00.0681.000">\n<TITLE></TITLE>\n</HEAD>\n<BODY>\n<!-- Converted from text/rtf format -->\n\nThe 2025 TERRA Winter Market returns to Hamilton and is now at our Waterdown location!<br /><br />Shop Saturdays and experience local vendors amongst the beautiful TERRA plants and people.<br /><br />Get out of the cold and spend time at TERRA! <br /><br />Saturdays January 11th to March 15th<br /><br />10 am - 3 pm<br /><br />Free Admission\n\n</BODY>\n</HTML>

LOCATION:8 Concession 5 Rd E, Waterdown, ON L8B 1K5, Canada
END:VEVENT

END:VCALENDAR
