BEGIN:VCALENDAR
VERSION:2.0
PRODID:-//hacksw/handcal//NONSGML v1.0//EN
BEGIN:VEVENT
UID:9df958d9b347fdd2d6582df734b0fb0a
DTSTAMP:20260421T091101Z

DTSTART:20190531T070000
DTEND:20190531T070000
SUMMARY:Open Mic Nights at Kekuli Cafe
DESCRIPTION:Open Mic\n&nbsp;\nNicola Valley Arts Council \n&nbsp;\npresents Open Mic Night at Kekuli Cafe in Downtown Merritt, BC, Canada. Music, spoken word, stand up, sketches, poetry and more. Featured artists every week. Come on down and enjoy some of the local talents living in the Nicola Valley.&nbsp; Experience Nicola Valley Features the Kekuli Cafe Open Mic Event:&nbsp; https://experiencenicolavalley.com/open-mic-nights-in-merritt-canada/\n&nbsp;\nFollow Us: https://www.facebook.com/OpenMicsMerritt/\n&nbsp;\nhttps://www.nicolavalleyartscouncil.com/\n

X-ALT-DESC;FMTTYPE=text/html:<!DOCTYPE HTML PUBLIC "-//W3C//DTD HTML 3.2//EN">\n<HTML>\n<HEAD>\n<META NAME="Generator" CONTENT="MS Exchange Server version 08.00.0681.000">\n<TITLE></TITLE>\n</HEAD>\n<BODY>\n<!-- Converted from text/rtf format -->\n\n<div><span style="font-family: 'arial black', 'avant garde'; font-size: 18pt;">Open Mic</span></div><br /><div>&nbsp;</div><br /><div><span style="font-size: 13px;"><span style="font-size: 14pt;"><strong>Nicola Valley Arts Council</strong> </span></span><br /><div>&nbsp;</div><br /><div><span style="font-size: 13px;">presents Open Mic Night at Kekuli Cafe in Downtown Merritt, BC, Canada. Music, spoken word, stand up, sketches, poetry and more. Featured artists every week. Come on down and enjoy some of the local talents living in the Nicola Valley.&nbsp; Experience Nicola Valley Features the Kekuli Cafe Open Mic Event:&nbsp; <a href="https://experiencenicolavalley.com/open-mic-nights-in-merritt-canada/">https://experiencenicolavalley.com/open-mic-nights-in-merritt-canada/</a></span></div><br /><div>&nbsp;</div><br /><div>Follow Us: <a href="https://www.facebook.com/OpenMicsMerritt/">https://www.facebook.com/OpenMicsMerritt/</a></div><br /><div>&nbsp;</div><br /><div><a href="https://www.nicolavalleyartscouncil.com/" target="_blank" rel="noopener"><span style="font-size: 13px;">https://www.nicolavalleyartscouncil.com/</span></a></div><br /></div>\n\n</BODY>\n</HTML>

LOCATION:2051 Voght St, Merritt, BC V1K 1B8, Canada
END:VEVENT

END:VCALENDAR
