BEGIN:VCALENDAR
VERSION:2.0
PRODID:-//hacksw/handcal//NONSGML v1.0//EN
BEGIN:VEVENT
UID:58c198f36210d04762c3148e9a7184e2
DTSTAMP:20260420T083353Z

DTSTART:20250201T090000
DTEND:20250301T170000
SUMMARY:Hike Haliburton Festival 2025 - Haliburton Ontario Canada
DESCRIPTION:The Hike Haliburton Festival 2025 will be held on Saturday, February 1st, and Sunday, February 2nd, in Haliburton, Ontario, Canada.\n\nHike Haliburton Festival 2025 registration is open! \n\nBring the whole family on Saturday, February 1st, and Sunday, February 2nd for a weekend of winter adventure, hikes, OAC ski demos, ice climbing, and more! \nThis is the premiere winter outdoor adventure event of the year in Haliburton, don't miss out.\nThe Hike Haliburton Festival is more than just traditional snowshoeing/hiking, heavily integrating the arts, culture, heritage, and foodie experiences \nto showcase the Haliburton area. \nRegister TODAY online at https://winter.hikehaliburton.com\nIntro to Igloo Building – Experience\nGuided Snowshoe Hikes – Experience\nGuided Ice Fishing – Experience\nWinter Camping & Day Trips – Experience\nTry It – Ice Climbing – Experience\n\n*Cost - Donations Welcome and Appreciated!\n

X-ALT-DESC;FMTTYPE=text/html:<!DOCTYPE HTML PUBLIC "-//W3C//DTD HTML 3.2//EN">\n<HTML>\n<HEAD>\n<META NAME="Generator" CONTENT="MS Exchange Server version 08.00.0681.000">\n<TITLE></TITLE>\n</HEAD>\n<BODY>\n<!-- Converted from text/rtf format -->\n\nThe Hike Haliburton Festival 2025 will be held on Saturday, February 1st, and Sunday, February 2nd, in Haliburton, Ontario, Canada.<br /><br />Hike Haliburton Festival 2025 registration is open! <br /><br />Bring the whole family on Saturday, February 1st, and Sunday, February 2nd for a weekend of winter adventure, hikes, OAC ski demos, ice climbing, and more! <br />This is the premiere winter outdoor adventure event of the year in Haliburton, don't miss out.<br />The Hike Haliburton Festival is more than just traditional snowshoeing/hiking, heavily integrating the arts, culture, heritage, and foodie experiences <br />to showcase the Haliburton area. <br />Register TODAY online at https://winter.hikehaliburton.com<br />Intro to Igloo Building – Experience<br />Guided Snowshoe Hikes – Experience<br />Guided Ice Fishing – Experience<br />Winter Camping & Day Trips – Experience<br />Try It – Ice Climbing – Experience<br /><br />*Cost - Donations Welcome and Appreciated!<br />\n\n</BODY>\n</HTML>

LOCATION:Haliburton, ON K0M 1S0, Canada
END:VEVENT

END:VCALENDAR
