BEGIN:VCALENDAR
VERSION:2.0
PRODID:-//hacksw/handcal//NONSGML v1.0//EN
BEGIN:VEVENT
UID:fb6da07f768cb546a76ad1197c401dea
DTSTAMP:20260419T213428Z

DTSTART:20241130T140000
DTEND:20241130T160000
SUMMARY:Ukrainian Pyrogy Christmas Bazaar 2024 - Calgary Alberta Canada
DESCRIPTION:The 2024 Ukrainian Pyrogy Christmas Bazaar is on Saturday, November 30th at  Assumption of the Blessed Virgin Mary Ukrainian Catholic Church, Calgary, Alberta, Canada.\n\nGet ready for all your holiday entertaining with incredible homemade Ukrainian food!\n\nFrozen homemade Pyrogies, Cabbage Rolls, and Borscht.\nFrozen Pyrogies (Potato & Cheese) - $10 per dozen\nFrozen Cabbage Rolls (With meat) - $20 per dozen\nFrozen Cabbage Rolls (Without meat) - $18 per dozen\nFrozen Borscht (Ukrainian Beet Soup) - $12 per liter\nBake Sale & Christmas Gift Shop!\nHomemade cookies, squares, cakes, pies, and much more!\n2 pm to 5 pm Saturday, November 30th, 2024.\n\n

X-ALT-DESC;FMTTYPE=text/html:<!DOCTYPE HTML PUBLIC "-//W3C//DTD HTML 3.2//EN">\n<HTML>\n<HEAD>\n<META NAME="Generator" CONTENT="MS Exchange Server version 08.00.0681.000">\n<TITLE></TITLE>\n</HEAD>\n<BODY>\n<!-- Converted from text/rtf format -->\n\nThe 2024 Ukrainian Pyrogy Christmas Bazaar is on Saturday, November 30th at  Assumption of the Blessed Virgin Mary Ukrainian Catholic Church, Calgary, Alberta, Canada.<br /><br />Get ready for all your holiday entertaining with incredible homemade Ukrainian food!<br /><br />Frozen homemade Pyrogies, Cabbage Rolls, and Borscht.<br />Frozen Pyrogies (Potato & Cheese) - $10 per dozen<br />Frozen Cabbage Rolls (With meat) - $20 per dozen<br />Frozen Cabbage Rolls (Without meat) - $18 per dozen<br />Frozen Borscht (Ukrainian Beet Soup) - $12 per liter<br />Bake Sale & Christmas Gift Shop!<br />Homemade cookies, squares, cakes, pies, and much more!<br />2 pm to 5 pm Saturday, November 30th, 2024.<br /><br />\n\n</BODY>\n</HTML>

LOCATION:704 6 St NE, Calgary, AB T2E 6X2, Canada
END:VEVENT

END:VCALENDAR
