BEGIN:VCALENDAR
VERSION:2.0
PRODID:-//hacksw/handcal//NONSGML v1.0//EN
BEGIN:VEVENT
UID:4808c2e7de475535150683314a7bedff
DTSTAMP:20260420T113108Z

DTSTART:20241018T110000
DTEND:20241020T170000
SUMMARY:Bala Cranberry Festival 2024 - Bala, Ontario, Canada
DESCRIPTION:The 2024 Bala Cranberry Festival is from Friday, October 18th to Sunday, October 20th in Bala, Ontario, Canada.\n\n\nMark your calendars for the weekend after Thanksgiving for the 2024 Bala Cranberry Festival!\nIf you have never been to the Bala Cranberry Festival, prepare for a weekend of Fall family fun.\n*Live Music *Entertainers *Performers *Kids Activities & More!\nThe Bala Cranberry Festival is one of Ontario’s premier Arts & Craft Shows visited by over 500,000 guests over the past 30 years. Shop til you Drop at this incredible community event.\n\n

X-ALT-DESC;FMTTYPE=text/html:<!DOCTYPE HTML PUBLIC "-//W3C//DTD HTML 3.2//EN">\n<HTML>\n<HEAD>\n<META NAME="Generator" CONTENT="MS Exchange Server version 08.00.0681.000">\n<TITLE></TITLE>\n</HEAD>\n<BODY>\n<!-- Converted from text/rtf format -->\n\nThe 2024 Bala Cranberry Festival is from Friday, October 18th to Sunday, October 20th in Bala, Ontario, Canada.<br /><br /><br />Mark your calendars for the weekend after Thanksgiving for the 2024 Bala Cranberry Festival!<br />If you have never been to the Bala Cranberry Festival, prepare for a weekend of Fall family fun.<br />*Live Music *Entertainers *Performers *Kids Activities & More!<br />The Bala Cranberry Festival is one of Ontario’s premier Arts & Craft Shows visited by over 500,000 guests over the past 30 years. Shop til you Drop at this incredible community event.<br /><br />\n\n</BODY>\n</HTML>

LOCATION:Bala, ON P0C 1A0, Canada
END:VEVENT

END:VCALENDAR
