BEGIN:VCALENDAR
VERSION:2.0
PRODID:-//hacksw/handcal//NONSGML v1.0//EN
BEGIN:VEVENT
UID:49f7bedfd44387044431faa305f851d7
DTSTAMP:20260420T062641Z

DTSTART:20240809T110000
DTEND:20240811T180000
SUMMARY:The 2024 Aylmer Fair - Aylmer Ontario Canada
DESCRIPTION:The 2024 Aylmer Fair is from Friday, August 9th to Sunday, August 11th at Fairgrounds in Aylmer, Ontario, Canada.\n\nMark your calendars for the 176th Annual Aylmer Fair!\n\nThe whole family will enjoy  Midway Rides, Food, Vendors, Homecraft Displays, Agricultural Displays, Petting Zoo and much more.\nBeer Gardens \n\nFriday, August 9th - Demolition Derby, Kids Day - under 12 free until 6 pm\n\nSaturday, August 10th - 4H Dairy Show 11 am, Demo Derby Matinee and Evening show, Dirt Bike Barrel Racing after the Matinee, Fibre Art Demonstrations,\nHolstein Show 6 pm, Kids Power Wheels Demo Derby 6 pm, The Thompson Band 9 pm\n\nSunday, August 11th - Fire Muster at noon\n\nAdmission - $10\nKids 3 to 12 - $7\nKids Under 3 FREE\n\n

X-ALT-DESC;FMTTYPE=text/html:<!DOCTYPE HTML PUBLIC "-//W3C//DTD HTML 3.2//EN">\n<HTML>\n<HEAD>\n<META NAME="Generator" CONTENT="MS Exchange Server version 08.00.0681.000">\n<TITLE></TITLE>\n</HEAD>\n<BODY>\n<!-- Converted from text/rtf format -->\n\nThe 2024 Aylmer Fair is from Friday, August 9th to Sunday, August 11th at Fairgrounds in Aylmer, Ontario, Canada.<br /><br />Mark your calendars for the 176th Annual Aylmer Fair!<br /><br />The whole family will enjoy  Midway Rides, Food, Vendors, Homecraft Displays, Agricultural Displays, Petting Zoo and much more.<br />Beer Gardens <br /><br />Friday, August 9th - Demolition Derby, Kids Day - under 12 free until 6 pm<br /><br />Saturday, August 10th - 4H Dairy Show 11 am, Demo Derby Matinee and Evening show, Dirt Bike Barrel Racing after the Matinee, Fibre Art Demonstrations,<br />Holstein Show 6 pm, Kids Power Wheels Demo Derby 6 pm, The Thompson Band 9 pm<br /><br />Sunday, August 11th - Fire Muster at noon<br /><br />Admission - $10<br />Kids 3 to 12 - $7<br />Kids Under 3 FREE<br /><br />\n\n</BODY>\n</HTML>

LOCATION:139 Pine St E, Aylmer, ON N5H 1N5, Canada
END:VEVENT

END:VCALENDAR
