BEGIN:VCALENDAR
VERSION:2.0
PRODID:-//hacksw/handcal//NONSGML v1.0//EN
BEGIN:VEVENT
UID:30e18a7f39165ec95386c7ce58ac7540
DTSTAMP:20260426T020102Z

DTSTART:20190609T070000
DTEND:20190609T070000
SUMMARY:Merritt Country Run
DESCRIPTION:The Merritt Country Run will be held on Sunday, June 9th, 2019.\nThe race has grown to include over 350 runners (as individuals or in teams), 100 volunteers and over 100 spectators. The race distances include Twice Around the Track, 5K, 10K and a 21.1K.\n\nMerritt is located in the sunny Nicola Valley and conveniently accessed from Vancouver, Kelowna or Kamloops. Merritt's rolling hills and cattle ranches, resort lodgings and fishing lakes combine a rich culture and history with outdoor adventure.&nbsp;\n\n&nbsp;\nGreat location and wonderful climate are just two reasons to make Merritt a running destination for runners of all ages.\n\n&nbsp;\nLearn more about the race or register today at: http://www.merrittcountryrun.ca/\n\n&nbsp;\nYou can also email us at: mcrun@telus.net\n\n\n\n\n\n\n\n

X-ALT-DESC;FMTTYPE=text/html:<!DOCTYPE HTML PUBLIC "-//W3C//DTD HTML 3.2//EN">\n<HTML>\n<HEAD>\n<META NAME="Generator" CONTENT="MS Exchange Server version 08.00.0681.000">\n<TITLE></TITLE>\n</HEAD>\n<BODY>\n<!-- Converted from text/rtf format -->\n\n<p>The <span style="font-size: 12pt;"><strong>Merritt Country Run</strong></span> will be held on Sunday, June 9th, 2019.</p><br /><p>The race has grown to include over 350 runners (as individuals or in teams), 100 volunteers and over 100 spectators. The race distances include Twice Around the Track, 5K, 10K and a 21.1K.</p><br /><div><br /><div>Merritt is located in the sunny Nicola Valley and conveniently accessed from Vancouver, Kelowna or Kamloops. Merritt's rolling hills and cattle ranches, resort lodgings and fishing lakes combine a rich culture and history with outdoor adventure.&nbsp;<br /><div><br /><div>&nbsp;</div><br /><div>Great location and wonderful climate are just two reasons to make Merritt a running destination for runners of all ages.<br /><div><br /><div>&nbsp;</div><br /><div>Learn more about the race or register today at: <a href="http://www.merrittcountryrun.ca/">http://www.merrittcountryrun.ca/</a><br /><div><br /><div>&nbsp;</div><br /><div><a href="http://www.merrittcountryrun.ca/"></a>You can also email us at: <a href="mailto:mcrun@telus.net">mcrun@telus.net<br /></a></div><br /></div><br /></div><br /></div><br /></div><br /></div><br /></div><br /></div>\n\n</BODY>\n</HTML>

LOCATION:1500 Main St, Merritt, BC V1K, Canada
END:VEVENT

END:VCALENDAR
