BEGIN:VCALENDAR
VERSION:2.0
PRODID:-//hacksw/handcal//NONSGML v1.0//EN
BEGIN:VEVENT
UID:f3a88b6fb91136363a2cbc9b4ab749c6
DTSTAMP:20260419T210724Z

DTSTART:20190609T100000
DTEND:20190609T170000
SUMMARY:Spock Days in Vulcan
DESCRIPTION:Spock Days is a community oriented, celebration of Vulcan, Alberta and the unique marketing and branding opportunity the town's name presents. Vulcan is a town in the prairies of Southern Alberta. It is located midway between the cities of Calgary and Lethbridge on Highway 23.\nNow known as the "Official Star Trek Capital of Canada," Vulcan has a Tourism building made to look like a landed space station, a statue of the Original Series Enterprise, and other Star Trek attractions.\n&nbsp;\nCelebrating over 25 years Spock Days has included many different events over the years as organizers attempt to bring more people to visit Vulcan and to showcase all the town has to offer.\n&nbsp;\nIn 2018 Spock Days saw the return of events such as the slo-pitch tournament, fireworks, pancake breakfast, family fun fair, beer gardens and cabaret. &nbsp;The weekend also featured new events such as the mini buckers, the Kinsmen soap box derby, taste of Vulcan, tech town and a 9-hole golf tournament Sunday afternoon organized by the Vulcan Golf & Country Club to help wrap up the weekend.\nJoin us June 7th to 9th for some Trekkie Fun!\n&nbsp;\n&nbsp;

X-ALT-DESC;FMTTYPE=text/html:<!DOCTYPE HTML PUBLIC "-//W3C//DTD HTML 3.2//EN">\n<HTML>\n<HEAD>\n<META NAME="Generator" CONTENT="MS Exchange Server version 08.00.0681.000">\n<TITLE></TITLE>\n</HEAD>\n<BODY>\n<!-- Converted from text/rtf format -->\n\n<p>Spock Days is a community oriented, celebration of Vulcan, Alberta and the unique marketing and branding opportunity the town's name presents. Vulcan is a town in the prairies of Southern Alberta. It is located midway between the cities of Calgary and Lethbridge on Highway 23.</p><br /><p>Now known as the "Official Star Trek Capital of Canada," Vulcan has a Tourism building made to look like a landed space station, a statue of the Original Series Enterprise, and other Star Trek attractions.</p><br /><p>&nbsp;</p><br /><p>Celebrating over 25 years Spock Days has included many different events over the years as organizers attempt to bring more people to visit Vulcan and to showcase all the town has to offer.</p><br /><p>&nbsp;</p><br /><p>In 2018 Spock Days saw the return of events such as the slo-pitch tournament, fireworks, pancake breakfast, family fun fair, beer gardens and cabaret. &nbsp;The weekend also featured new events such as the mini buckers, the Kinsmen soap box derby, taste of Vulcan, tech town and a 9-hole golf tournament Sunday afternoon organized by the Vulcan Golf & Country Club to help wrap up the weekend.</p><br /><p>Join us June 7th to 9th for some Trekkie Fun!</p><br /><p>&nbsp;</p><br /><p>&nbsp;</p>\n\n</BODY>\n</HTML>

LOCATION:Vulcan, AB T0L 2B0, Canada
END:VEVENT

END:VCALENDAR
