BEGIN:VCALENDAR
VERSION:2.0
PRODID:-//hacksw/handcal//NONSGML v1.0//EN
BEGIN:VEVENT
UID:de9d5056c6c6c6aa914d103837954181
DTSTAMP:20260422T185907Z

DTSTART:20240719T000000
DTEND:20240719T000000
SUMMARY:Discover Ontario Parks: Free Entry on July 19th!
DESCRIPTION:Take part in a special one-day celebration, Healthy Parks Healthy People, on July 19th, when Ontario Parks will welcome visitors with free entry. Enjoy a complimentary day pass to explore your local Ontario Provincial Park, use the facilities, and participate in fun events until 10 pm.\n\nPlease note that while general park access is free, fees for camping, equipment rentals, and swimming pool use at Bronte Creek and Earl Rowe provincial parks will still apply. \n\nDon't miss this opportunity to connect with nature and enjoy the beauty of Ontario's parks!

X-ALT-DESC;FMTTYPE=text/html:<!DOCTYPE HTML PUBLIC "-//W3C//DTD HTML 3.2//EN">\n<HTML>\n<HEAD>\n<META NAME="Generator" CONTENT="MS Exchange Server version 08.00.0681.000">\n<TITLE></TITLE>\n</HEAD>\n<BODY>\n<!-- Converted from text/rtf format -->\n\nTake part in a special one-day celebration, Healthy Parks Healthy People, on July 19th, when Ontario Parks will welcome visitors with free entry. Enjoy a complimentary day pass to explore your local Ontario Provincial Park, use the facilities, and participate in fun events until 10 pm.<br /><br />Please note that while general park access is free, fees for camping, equipment rentals, and swimming pool use at Bronte Creek and Earl Rowe provincial parks will still apply. <br /><br />Don't miss this opportunity to connect with nature and enjoy the beauty of Ontario's parks!\n\n</BODY>\n</HTML>

LOCATION:Long Point Provincial Park, 350 Erie Blvd, Port Rowan, ON N0E 1M0, Canada
END:VEVENT

END:VCALENDAR
