BEGIN:VCALENDAR
VERSION:2.0
PRODID:-//hacksw/handcal//NONSGML v1.0//EN
BEGIN:VEVENT
UID:51ea5c9d1d1e29027b73e7814e17a8e8
DTSTAMP:20260421T230012Z

DTSTART:20240622T090000
DTEND:20240622T150000
SUMMARY:Magrath Show & Shine 2024 - Magrath Alberta Canada
DESCRIPTION:The 2024 Magrath Show & Shine is on Saturday, June 22nd in Magrath, Alberta, Canada.\n\nBring the whole family to the 5th Annual Magrath Show & Shine for a fun-filled time. \nThe Show n Shine starts at 4 pm with a fine collection of Classic Cars.\nSatisfy your hunger at the Food Trucks before the very popular  Magrath Show & Shine Parade starting at 6 pm.\n*Please bring a donation to the Food Bank\n\n#carshows2024 #classiccarshows2024 #magrathalberta #coolsmalltowns\n\n

X-ALT-DESC;FMTTYPE=text/html:<!DOCTYPE HTML PUBLIC "-//W3C//DTD HTML 3.2//EN">\n<HTML>\n<HEAD>\n<META NAME="Generator" CONTENT="MS Exchange Server version 08.00.0681.000">\n<TITLE></TITLE>\n</HEAD>\n<BODY>\n<!-- Converted from text/rtf format -->\n\nThe 2024 Magrath Show & Shine is on Saturday, June 22nd in Magrath, Alberta, Canada.<br /><br />Bring the whole family to the 5th Annual Magrath Show & Shine for a fun-filled time. <br />The Show n Shine starts at 4 pm with a fine collection of Classic Cars.<br />Satisfy your hunger at the Food Trucks before the very popular  Magrath Show & Shine Parade starting at 6 pm.<br />*Please bring a donation to the Food Bank<br /><br />#carshows2024 #classiccarshows2024 #magrathalberta #coolsmalltowns<br /><br />\n\n</BODY>\n</HTML>

LOCATION:Harker Ave, Magrath, AB T0K 1J0, Canada
END:VEVENT

END:VCALENDAR
