BEGIN:VCALENDAR
VERSION:2.0
PRODID:-//hacksw/handcal//NONSGML v1.0//EN
BEGIN:VEVENT
UID:72f4170625e23683476b4472e93ef5bf
DTSTAMP:20260419T135647Z

DTSTART:20240608T090000
DTEND:20240608T150000
SUMMARY:Beiseker Show & Shine 2024 - 2024 Beiseker Alberta Canada
DESCRIPTION:The 2024 Beiseker Show & Shine is on Saturday, June 8th in 2024 Beiseker, Alberta, Canada.\n\nBring the whole family out to the 2024 Beiseker Show & Shine for a fun-filled day with \nMusic, Classic Cars, Delicious BBQ, and much more!\nRegistration at 9 am - $15 to enter your car.\nThis is the 18th Annual Beiseker Show & Shine and every year gets bigger and better.\nEvent time: 9 am - 3 pm\nLocation: Heighton Auto Restorations, 530 - 1st Ave, Beiseker, AB\nAll proceeds go to local organizations in the community.\nSee you there!

X-ALT-DESC;FMTTYPE=text/html:<!DOCTYPE HTML PUBLIC "-//W3C//DTD HTML 3.2//EN">\n<HTML>\n<HEAD>\n<META NAME="Generator" CONTENT="MS Exchange Server version 08.00.0681.000">\n<TITLE></TITLE>\n</HEAD>\n<BODY>\n<!-- Converted from text/rtf format -->\n\nThe 2024 Beiseker Show & Shine is on Saturday, June 8th in 2024 Beiseker, Alberta, Canada.<br /><br />Bring the whole family out to the 2024 Beiseker Show & Shine for a fun-filled day with <br />Music, Classic Cars, Delicious BBQ, and much more!<br />Registration at 9 am - $15 to enter your car.<br />This is the 18th Annual Beiseker Show & Shine and every year gets bigger and better.<br />Event time: 9 am - 3 pm<br />Location: Heighton Auto Restorations, 530 - 1st Ave, Beiseker, AB<br />All proceeds go to local organizations in the community.<br />See you there!\n\n</BODY>\n</HTML>

LOCATION:530 1 Ave, Beiseker, AB T0M 0G0, Canada
END:VEVENT

END:VCALENDAR
