BEGIN:VCALENDAR
VERSION:2.0
PRODID:-//hacksw/handcal//NONSGML v1.0//EN
BEGIN:VEVENT
UID:5b13e67427e48155e48e20375d64eed0
DTSTAMP:20260419T125214Z

DTSTART:20240531T190000
DTEND:20240610T230000
SUMMARY:Funnyfest Calgary Comedy Festival 2024 - Calgary Alberta Canada - 31.05.2024
DESCRIPTION:Funnyfest Calgary Comedy Festival 2024 is from May 30th to June 9th in Calgary, Alberta, Canada.\nIf you like to laugh then the Calgary Funnyfest is the place to be!\nPerformances at 11 veb=nues around Calgary will have you in stitches laughing!\n\nFEATURING:\n• 6 Comedians per show!\n• Non–stop laughter for 1.5 hours to 2 hours per show!\n• Great Food & Beverages at casual and fun venues!\n• Volunteer produced Festival!\n• Prizes galore\n\nTickets available online $20 & up

X-ALT-DESC;FMTTYPE=text/html:<!DOCTYPE HTML PUBLIC "-//W3C//DTD HTML 3.2//EN">\n<HTML>\n<HEAD>\n<META NAME="Generator" CONTENT="MS Exchange Server version 08.00.0681.000">\n<TITLE></TITLE>\n</HEAD>\n<BODY>\n<!-- Converted from text/rtf format -->\n\nFunnyfest Calgary Comedy Festival 2024 is from May 30th to June 9th in Calgary, Alberta, Canada.<br />If you like to laugh then the Calgary Funnyfest is the place to be!<br />Performances at 11 veb=nues around Calgary will have you in stitches laughing!<br /><br />FEATURING:<br />• 6 Comedians per show!<br />• Non–stop laughter for 1.5 hours to 2 hours per show!<br />• Great Food & Beverages at casual and fun venues!<br />• Volunteer produced Festival!<br />• Prizes galore<br /><br />Tickets available online $20 & up\n\n</BODY>\n</HTML>

LOCATION:Calgary, AB, Canada
END:VEVENT

END:VCALENDAR
