BEGIN:VCALENDAR
VERSION:2.0
PRODID:-//hacksw/handcal//NONSGML v1.0//EN
BEGIN:VEVENT
UID:a55245de523e08415613937eaa83b116
DTSTAMP:20260423T025536Z

DTSTART:20240504T100000
DTEND:20240504T170000
SUMMARY:Vernon Comic Con 2024
DESCRIPTION:Vernon Comic Con Returns for Another Year at New Location - Vernon Rec Centre, inside the Dog wood gym!  \nOne of the highlights of this year's event is the notable date, May the 4th, as in May the FORTH be with you!\nShow off your cosplay by dressing as your favorite fictional character, and join fellow attendees in bringing the spirit of popular culture to life through cosplay. There will even be an opportunity for cosplayers to go on stage and showcase their looks (pre-registration is required)\nTickets that year are priced at just $5 each at the door. \n Let your love for comics, movies, and all things geek shine bright as you join in this community event. 

X-ALT-DESC;FMTTYPE=text/html:<!DOCTYPE HTML PUBLIC "-//W3C//DTD HTML 3.2//EN">\n<HTML>\n<HEAD>\n<META NAME="Generator" CONTENT="MS Exchange Server version 08.00.0681.000">\n<TITLE></TITLE>\n</HEAD>\n<BODY>\n<!-- Converted from text/rtf format -->\n\nVernon Comic Con Returns for Another Year at New Location - Vernon Rec Centre, inside the Dog wood gym!  <br />One of the highlights of this year's event is the notable date, May the 4th, as in May the FORTH be with you!<br />Show off your cosplay by dressing as your favorite fictional character, and join fellow attendees in bringing the spirit of popular culture to life through cosplay. There will even be an opportunity for cosplayers to go on stage and showcase their looks (pre-registration is required)<br />Tickets that year are priced at just $5 each at the door. <br /> Let your love for comics, movies, and all things geek shine bright as you join in this community event. \n\n</BODY>\n</HTML>

LOCATION:3310 37th Ave, Vernon, BC V1T 2Y5, Canada
END:VEVENT

END:VCALENDAR
