BEGIN:VCALENDAR
VERSION:2.0
PRODID:-//hacksw/handcal//NONSGML v1.0//EN
BEGIN:VEVENT
UID:ccf5ee32bb148b5fd46366c076b15079
DTSTAMP:20260421T100056Z

DTSTART:20240330T110000
DTEND:20240330T140000
SUMMARY:Swan Lake Nursery Easter Egg Hunt 2024
DESCRIPTION:Get ready for an egg-citing Easter event at the Swan Lake Nursery! \nOn April 3rd, families are invited to join in the Annual Easter egg hunt which kicks off at 11:30 sharp. Children will have the opportunity to search for hidden Easter eggs throughout the Swan Lake Nursery nursery. \n In addition to the egg hunt, families can indulge in a delicious hot dog lunch, and Mini donuts which will be on site. \nThe nursery will also be offering the opportunity to take pictures with the Easter Bunny, making for an easter tradition.  Adding to the festivities, the Vernon Community Music School will provide live music during the event! 

X-ALT-DESC;FMTTYPE=text/html:<!DOCTYPE HTML PUBLIC "-//W3C//DTD HTML 3.2//EN">\n<HTML>\n<HEAD>\n<META NAME="Generator" CONTENT="MS Exchange Server version 08.00.0681.000">\n<TITLE></TITLE>\n</HEAD>\n<BODY>\n<!-- Converted from text/rtf format -->\n\nGet ready for an egg-citing Easter event at the Swan Lake Nursery! <br />On April 3rd, families are invited to join in the Annual Easter egg hunt which kicks off at 11:30 sharp. Children will have the opportunity to search for hidden Easter eggs throughout the Swan Lake Nursery nursery. <br /> In addition to the egg hunt, families can indulge in a delicious hot dog lunch, and Mini donuts which will be on site. <br />The nursery will also be offering the opportunity to take pictures with the Easter Bunny, making for an easter tradition.  Adding to the festivities, the Vernon Community Music School will provide live music during the event! \n\n</BODY>\n</HTML>

LOCATION:Vernon, BC V1H, Canada
END:VEVENT

END:VCALENDAR
