BEGIN:VCALENDAR
VERSION:2.0
PRODID:-//hacksw/handcal//NONSGML v1.0//EN
BEGIN:VEVENT
UID:e1f194ed1561cab22ca0f52a389fa27b
DTSTAMP:20260423T074032Z

DTSTART:20171123T110000
DTEND:20180128T210000
SUMMARY:Canyon Lights at Capilano Suspension Bridge
DESCRIPTION:Experience the feeling of wonder and excitement of the holiday season and be amazed by the hundreds of thousands of lights throughout the park. The suspension bridge, Treetops Adventure, Cliffwalk, the rainforest and canyon are transformed into a world of festive lights and visual enchantment.This year the 30-ton Douglas firs of Treetops Adventure receive star treatment. Treetops Adventure is a series of seven suspension bridges attached to eight 250 years old Douglas-firs with viewing platforms, reaching up to 110 feet above the forest floor. These magnificent and huge Douglas firs will be lit above and below the collars, making these trees the eight tallest Christmas trees in the world!\n

X-ALT-DESC;FMTTYPE=text/html:<!DOCTYPE HTML PUBLIC "-//W3C//DTD HTML 3.2//EN">\n<HTML>\n<HEAD>\n<META NAME="Generator" CONTENT="MS Exchange Server version 08.00.0681.000">\n<TITLE></TITLE>\n</HEAD>\n<BODY>\n<!-- Converted from text/rtf format -->\n\n<p>Experience the feeling of wonder and excitement of the holiday season and be amazed by the hundreds of thousands of lights throughout the park. The suspension bridge, Treetops Adventure, Cliffwalk, the rainforest and canyon are transformed into a world of festive lights and visual enchantment.</p><p>This year the 30-ton Douglas firs of Treetops Adventure receive star treatment. Treetops Adventure is a series of seven suspension bridges attached to eight 250 years old Douglas-firs with viewing platforms, reaching up to 110 feet above the forest floor. These magnificent and huge Douglas firs will be lit above and below the collars, making these trees the eight tallest Christmas trees in the world!<br /></p>\n\n</BODY>\n</HTML>

LOCATION:3735 Capilano Road, North Vancouver, British Columbia
END:VEVENT

END:VCALENDAR
