BEGIN:VCALENDAR
VERSION:2.0
PRODID:-//hacksw/handcal//NONSGML v1.0//EN
BEGIN:VEVENT
UID:5540bc443a4cf713e0d04367d226912c
DTSTAMP:20260419T220438Z

DTSTART:20240209T180000
DTEND:20240210T220000
SUMMARY:Severn Winterfest 2024 - Orillia, Ontario, Canada
DESCRIPTION:The Severn Winterfest 2024 is on Friday, February 9th, and Saturday, February 10th in Orillia, Ontario, Canada.\nTwo days of great winter family fun with many awesome activities!\n*Demolition Derby *Chainsaw Carving *Face Painting *Polar Dip *Ice Skating *Pancake Breakfast *Magician *Horse Drawn Wagon Rides and much more!\nLots of Food Trucks and be sure to visit the Ice Bar for a drink!\n\nCost:\nFriday -  $5\nSaturday - $10\nKids under 5 are free.\nPay at the Door\n\n\n

X-ALT-DESC;FMTTYPE=text/html:<!DOCTYPE HTML PUBLIC "-//W3C//DTD HTML 3.2//EN">\n<HTML>\n<HEAD>\n<META NAME="Generator" CONTENT="MS Exchange Server version 08.00.0681.000">\n<TITLE></TITLE>\n</HEAD>\n<BODY>\n<!-- Converted from text/rtf format -->\n\nThe Severn Winterfest 2024 is on Friday, February 9th, and Saturday, February 10th in Orillia, Ontario, Canada.<br />Two days of great winter family fun with many awesome activities!<br />*Demolition Derby *Chainsaw Carving *Face Painting *Polar Dip *Ice Skating *Pancake Breakfast *Magician *Horse Drawn Wagon Rides and much more!<br />Lots of Food Trucks and be sure to visit the Ice Bar for a drink!<br /><br />Cost:<br />Friday -  $5<br />Saturday - $10<br />Kids under 5 are free.<br />Pay at the Door<br /><br /><br />\n\n</BODY>\n</HTML>

LOCATION:4442 Fairgrounds Rd, Orillia, ON L3V 6H2, Canada
END:VEVENT

END:VCALENDAR
