BEGIN:VCALENDAR
VERSION:2.0
PRODID:-//hacksw/handcal//NONSGML v1.0//EN
BEGIN:VEVENT
UID:6574e884b98d6936efce279ddb3da4de
DTSTAMP:20260419T220654Z

DTSTART:20240202T070000
DTEND:20240203T160000
SUMMARY:Wiarton Willie Festival 2024 - Wiarton, Ontario, Canada
DESCRIPTION:The 2024 Wiarton Willie Festival is on Friday, February 2nd at the Wiarton Arena Parking lot in Wiarton, Ontario, Canada.\nSet your alarm, remember your skates, and come out for Wiarton Willies 2024 prediction of whether we will have an early Spring or 6 more weeks of Winter!\nFireworks at 7 am and Willie's prediction at 8:07 am.\nFree Public Skate from 9:30 am to Noon\n\nThe fun continues on Saturday, February 3rd from 10 am - 4 pm at Bluewater Park bring the family for some fun events!\n*Gaming Trailer\n*Rock Climbing Wall\n*Axe Throwing\n*Photo Booth\n*Human Foosball\n*Trackless Train\nand lots more!!\n\nVendors/Crafters Market\nSaturday, February, 3 from 9 am to 3 pm at the Wiarton Propeller Club\n$1.00 admission \nSoup & Sandwiches will be available to purchase\n

X-ALT-DESC;FMTTYPE=text/html:<!DOCTYPE HTML PUBLIC "-//W3C//DTD HTML 3.2//EN">\n<HTML>\n<HEAD>\n<META NAME="Generator" CONTENT="MS Exchange Server version 08.00.0681.000">\n<TITLE></TITLE>\n</HEAD>\n<BODY>\n<!-- Converted from text/rtf format -->\n\nThe 2024 Wiarton Willie Festival is on Friday, February 2nd at the Wiarton Arena Parking lot in Wiarton, Ontario, Canada.<br />Set your alarm, remember your skates, and come out for Wiarton Willies 2024 prediction of whether we will have an early Spring or 6 more weeks of Winter!<br />Fireworks at 7 am and Willie's prediction at 8:07 am.<br />Free Public Skate from 9:30 am to Noon<br /><br />The fun continues on Saturday, February 3rd from 10 am - 4 pm at Bluewater Park bring the family for some fun events!<br />*Gaming Trailer<br />*Rock Climbing Wall<br />*Axe Throwing<br />*Photo Booth<br />*Human Foosball<br />*Trackless Train<br />and lots more!!<br /><br />Vendors/Crafters Market<br />Saturday, February, 3 from 9 am to 3 pm at the Wiarton Propeller Club<br />$1.00 admission <br />Soup & Sandwiches will be available to purchase<br />\n\n</BODY>\n</HTML>

LOCATION:Wiarton, ON N0H 2T0, Canada
END:VEVENT

END:VCALENDAR
