BEGIN:VCALENDAR
VERSION:2.0
PRODID:-//hacksw/handcal//NONSGML v1.0//EN
BEGIN:VEVENT
UID:2dc1872cc5f61b209ee301f460c9c970
DTSTAMP:20260421T132603Z

DTSTART:20240207T180000
DTEND:20240207T220000
SUMMARY:East Van Dumpling Fest Crawl 2024 Vancouver BC
DESCRIPTION:Tantalize your taste buds in Vancouver BC at several restaurants in the neighborhoods of Commercial Drive, East Village & beyond to taste different kinds of dumplings on this self-guided tour!\n\nFrom Chinese dumplings to Italian gnocchi, Nepalese momos to Mexican empanadas, dessert dumplings and more!\n\nThese participating Vancouver BC restaurants will be serving up Tasting Plates of dumplings for guests to enjoy!\n\nVivace on the Drive\n1728 Commercial Drive, Vancouver\nCuisine: Italian/European\n\nVivace on the Drive comes alive with delicious food, drink and live music nightly. The 120-year-old building once housed another supper club that ran for many years, the whole inside of the building was rebuilt to modern day furnishings and the supper club has returned to create a wonderful dining experience. With Chef Rory Byrne leading the kitchen, he has created a wonderful ala carte dinner menu along with a Chef’s Tasting Menu where you have the option of 4 courses, 5 courses or 6 courses for dinner; he also offers a daytime menu along with happy hour in the afternoon.\n\nMaizal\n2815 Main Street, Vancouver\nCuisine: Mexican\n\nEnjoy classic hand-crafted cuisine just like on the streets of Mexico. Enjoy gluten free dishes, real Mexican beverages and their famous soft shell tacos. Fresh corn tortillas made to order and more.\n\nDi Olvia Tasting Bar\n2632 East Hastings Street, Vancouver\nCuisine: Olive Oil and Balsamic Vinegar Tastings Bar\n\nDi Oliva Tasting Bar has over 50 kinds of Extra Virgin Premium Olive Oils from around the world and Balsamic Vinegars imported from Modena, Italy.\n\nMomo Hut\n6372 Fraser Street, Vancouver\nCuisine: Nepalese and Himalayan\n\nMomo Hut remains committed to serving the finest Nepalese cuisine available for both dine-in and takeout. Momo Hut proudly welcomes everyone to experience the best of Nepalese cuisine at its Fraser Street location in Vancouver.\n\nHype Chocolate Co.\n855 E Hastings St, Vancouver\nCuisine: Chocolate dessert emporium\n\nA nostalgic chocolate and ice cream shop located in the Strathcona neighborhood is a chocolate-covered sweet tooth’s dream. The store still sells your favorite chocolate bars and sweet treats, but they’ve also added ice cream to the mix and are having fun with floats, milkshakes, and ice cream sandwiches and so much more.\n\nTICKETS available from the website below\nRegular Tickets; $79 per person\nVIP Experience: $129 per person\n\nTicket price includes tasting plates of dumplings at each of the participating restaurants on this self-guided tour throughout the evening.\n

X-ALT-DESC;FMTTYPE=text/html:<!DOCTYPE HTML PUBLIC "-//W3C//DTD HTML 3.2//EN">\n<HTML>\n<HEAD>\n<META NAME="Generator" CONTENT="MS Exchange Server version 08.00.0681.000">\n<TITLE></TITLE>\n</HEAD>\n<BODY>\n<!-- Converted from text/rtf format -->\n\nTantalize your taste buds in Vancouver BC at several restaurants in the neighborhoods of Commercial Drive, East Village & beyond to taste different kinds of dumplings on this self-guided tour!<br /><br />From Chinese dumplings to Italian gnocchi, Nepalese momos to Mexican empanadas, dessert dumplings and more!<br /><br />These participating Vancouver BC restaurants will be serving up Tasting Plates of dumplings for guests to enjoy!<br /><br />Vivace on the Drive<br />1728 Commercial Drive, Vancouver<br />Cuisine: Italian/European<br /><br />Vivace on the Drive comes alive with delicious food, drink and live music nightly. The 120-year-old building once housed another supper club that ran for many years, the whole inside of the building was rebuilt to modern day furnishings and the supper club has returned to create a wonderful dining experience. With Chef Rory Byrne leading the kitchen, he has created a wonderful ala carte dinner menu along with a Chef’s Tasting Menu where you have the option of 4 courses, 5 courses or 6 courses for dinner; he also offers a daytime menu along with happy hour in the afternoon.<br /><br />Maizal<br />2815 Main Street, Vancouver<br />Cuisine: Mexican<br /><br />Enjoy classic hand-crafted cuisine just like on the streets of Mexico. Enjoy gluten free dishes, real Mexican beverages and their famous soft shell tacos. Fresh corn tortillas made to order and more.<br /><br />Di Olvia Tasting Bar<br />2632 East Hastings Street, Vancouver<br />Cuisine: Olive Oil and Balsamic Vinegar Tastings Bar<br /><br />Di Oliva Tasting Bar has over 50 kinds of Extra Virgin Premium Olive Oils from around the world and Balsamic Vinegars imported from Modena, Italy.<br /><br />Momo Hut<br />6372 Fraser Street, Vancouver<br />Cuisine: Nepalese and Himalayan<br /><br />Momo Hut remains committed to serving the finest Nepalese cuisine available for both dine-in and takeout. Momo Hut proudly welcomes everyone to experience the best of Nepalese cuisine at its Fraser Street location in Vancouver.<br /><br />Hype Chocolate Co.<br />855 E Hastings St, Vancouver<br />Cuisine: Chocolate dessert emporium<br /><br />A nostalgic chocolate and ice cream shop located in the Strathcona neighborhood is a chocolate-covered sweet tooth’s dream. The store still sells your favorite chocolate bars and sweet treats, but they’ve also added ice cream to the mix and are having fun with floats, milkshakes, and ice cream sandwiches and so much more.<br /><br />TICKETS available from the website below<br />Regular Tickets; $79 per person<br />VIP Experience: $129 per person<br /><br />Ticket price includes tasting plates of dumplings at each of the participating restaurants on this self-guided tour throughout the evening.<br />\n\n</BODY>\n</HTML>

LOCATION:Vancouver, BC V5L 2T4, Canada
END:VEVENT

END:VCALENDAR
