BEGIN:VCALENDAR
VERSION:2.0
PRODID:-//hacksw/handcal//NONSGML v1.0//EN
BEGIN:VEVENT
UID:bb7652519e8741441dc5e0ce1a8a24f7
DTSTAMP:20260421T110548Z

DTSTART:20240202T160000
DTEND:20240204T170000
SUMMARY:Goderich WinterFest 2024 - Goderich, Ontario, Canada
DESCRIPTION:The Goderich WinterFest 2024 is from Friday, February 2nd to Sunday, February 4th in Goderich, Ontario, Canada.\n\n\n\nPlan to be in Goderich for WinterFest 2024!\nThis FREE family event will keep you busy with lots of fun outdoor activities starting at 10 am Friday.\n*Snowman Toss * Inflatable Horse Derby, Mini Sticks and MORE!\nEveryone will love the Petting Zoo from 11 am to 2 pm - come see the Alpacas, Bunnies, Chickens and Goats!     \nThe WinterFest Brew Bar will be open from 11 am to 4 pm for the adults to enjoy.\nPlan to take a walk along the 1.5 km trail in Maitland Woods between 7:30 pm & 8:30 pm where you will find beautiful candlelight lanterns along the trail.\nWarm up on Saturday, February 3rd at the Goderich Legion with the Rotary Chili Cook-Off from 11:30 am – 1:30 pm. \nOn February 3rd the Goderich Library between 11 am to 4 pm will have board games to play with friends or family.\nThe YMCA between 1:30 pm and 3:45 pm will be hosting a Winterfest Open Swim.\nAnd so much more!\nHope to see you at Winterfest 2024!    \n\n

X-ALT-DESC;FMTTYPE=text/html:<!DOCTYPE HTML PUBLIC "-//W3C//DTD HTML 3.2//EN">\n<HTML>\n<HEAD>\n<META NAME="Generator" CONTENT="MS Exchange Server version 08.00.0681.000">\n<TITLE></TITLE>\n</HEAD>\n<BODY>\n<!-- Converted from text/rtf format -->\n\nThe Goderich WinterFest 2024 is from Friday, February 2nd to Sunday, February 4th in Goderich, Ontario, Canada.<br /><br /><br /><br />Plan to be in Goderich for WinterFest 2024!<br />This FREE family event will keep you busy with lots of fun outdoor activities starting at 10 am Friday.<br />*Snowman Toss * Inflatable Horse Derby, Mini Sticks and MORE!<br />Everyone will love the Petting Zoo from 11 am to 2 pm - come see the Alpacas, Bunnies, Chickens and Goats!     <br />The WinterFest Brew Bar will be open from 11 am to 4 pm for the adults to enjoy.<br />Plan to take a walk along the 1.5 km trail in Maitland Woods between 7:30 pm & 8:30 pm where you will find beautiful candlelight lanterns along the trail.<br />Warm up on Saturday, February 3rd at the Goderich Legion with the Rotary Chili Cook-Off from 11:30 am – 1:30 pm. <br />On February 3rd the Goderich Library between 11 am to 4 pm will have board games to play with friends or family.<br />The YMCA between 1:30 pm and 3:45 pm will be hosting a Winterfest Open Swim.<br />And so much more!<br />Hope to see you at Winterfest 2024!    <br /><br />\n\n</BODY>\n</HTML>

LOCATION:Goderich, ON, Canada
END:VEVENT

END:VCALENDAR
