BEGIN:VCALENDAR
VERSION:2.0
PRODID:-//hacksw/handcal//NONSGML v1.0//EN
BEGIN:VEVENT
UID:d19a3ba2ca1222028c1b9164afe7523a
DTSTAMP:20260420T180751Z

DTSTART:20240215T170000
DTEND:20240217T230000
SUMMARY:Block Heater Music Festival 2024 - Calgary, Alberta, Canada
DESCRIPTION:Block Heater Music Festival 2024 is from February 15th to February 17th in Calgary, Alberta, Canada.\nWarm up your winter with incredible music and atmosphere at Calgary's Block Heater Music party.\nYou will find performances at Festival Hall, Ironwood Stage & Grill, The Blues Can, Royal Canadian Legion #1, Central United Church, The Palace Theatre, and Olympic Plaza this year. \nBlock Heater events will be separately ticketed. \nThe Olympic Plaza event, in partnership with Chinook Blast, is free.\nTickets range from $30 to $40 depending on venue and event.\nBlock Heater 2024 will be featuring performances by The Devil Makes Three, Tanya Tagaq, Daniel Romano, Dominique Fils-Aimé, This Is The Kit, U.S. Girls, Matt Holubowski, Rich Aucoin, Vieux Farka Touré, Tanika Charles and many more!\nTickets https://www.eventbrite.com/cc/block-heater-2024-2856139\n

X-ALT-DESC;FMTTYPE=text/html:<!DOCTYPE HTML PUBLIC "-//W3C//DTD HTML 3.2//EN">\n<HTML>\n<HEAD>\n<META NAME="Generator" CONTENT="MS Exchange Server version 08.00.0681.000">\n<TITLE></TITLE>\n</HEAD>\n<BODY>\n<!-- Converted from text/rtf format -->\n\nBlock Heater Music Festival 2024 is from February 15th to February 17th in Calgary, Alberta, Canada.<br />Warm up your winter with incredible music and atmosphere at Calgary's Block Heater Music party.<br />You will find performances at Festival Hall, Ironwood Stage & Grill, The Blues Can, Royal Canadian Legion #1, Central United Church, The Palace Theatre, and Olympic Plaza this year. <br />Block Heater events will be separately ticketed. <br />The Olympic Plaza event, in partnership with Chinook Blast, is free.<br />Tickets range from $30 to $40 depending on venue and event.<br />Block Heater 2024 will be featuring performances by The Devil Makes Three, Tanya Tagaq, Daniel Romano, Dominique Fils-Aimé, This Is The Kit, U.S. Girls, Matt Holubowski, Rich Aucoin, Vieux Farka Touré, Tanika Charles and many more!<br />Tickets https://www.eventbrite.com/cc/block-heater-2024-2856139<br />\n\n</BODY>\n</HTML>

LOCATION:Calgary, AB, Canada
END:VEVENT

END:VCALENDAR
