BEGIN:VCALENDAR
VERSION:2.0
PRODID:-//hacksw/handcal//NONSGML v1.0//EN
BEGIN:VEVENT
UID:24648e520a321978ae61f388aa1f1321
DTSTAMP:20260421T230133Z

DTSTART:20240203T090000
DTEND:20240204T180000
SUMMARY:Onaping Falls Winter Carnival 2024 -  Levack, Ontario Canada
DESCRIPTION:The Onaping Falls Winter Carnival is from Friday, February 2nd until Sunday, February 4th in 5 different locations in the Sudbury, Ontario area.\n\nFor 60 years and counting, Onaping Falls has hosted a Winter Carnival for the community to enjoy winter.\nBeginning with the Levack-Onaping Winter Carnival in 1964 then the Dowling Winter Carnival beginning in 1971 with Ookpik being born in 1972.  \nThe Winter Carnivals have been a huge event for the residents of Onaping Falls to look forward to every year.     \nLocations:\nRussell Beaudry Outdoor Rink\nFrom Sudbury: Take Highway 144 N for 34 km.  Turn right onto Regional Rd 8 (signs for Regional Road 8/Onaping /Levack). Turn left onto Onaping Drive. Turn right onto Juniper Street.\n10 Juniper Street, Onaping – Levack, Ontario P0M 2R0, Canada\n\nDowling Leisure Centre\nLocated on Highway 144 North.\n79 Main St E, Greater Sudbury Grand Sudbury, Ontario, Canada\n\nOnaping Falls Curling Club\nFrom Sudbury: Take Highway 144 N for 34 km.  Turn right onto Regional Rd 8 (signs for Regional Road 8/Onaping /Levack). Turn left onto Onaping Drive. Turn right onto Juniper Street. Turn right onto Fraser Extension.\n10 Fraser Extension, Onaping – Levack, Ontario P0M 2R0, Canada\n\nWindy Lake Restaurant\nFrom Sudbury: Take Highway 144 N for 39 km.  Turn left onto Old Cartier Road.\nWindy Lake Motel, Ontario P0M 2R0, Canada\n\nOnaping Falls Nordics Ski Club\nFrom Sudbury: Take Highway 144 N for 39 km.  Turn left onto Old Cartier Road. Continue for 500m, Ski Club is on the right across from the Windy Lake Provincial Park entrance.\nWindy Lake Provincial Park, Ontario P0M 2R0, Canada\n\n\n\nCarnival Buttons are $ 5 each for adults.  You will be entered into a draw.  The draw takes place on Sunday, February 4th at the Onaping Legion @ 5 pm.  \nThe prizes are 1st prize $ 500, 2nd prize $ 250 & 3rd prize $ 100.\nCarnival Buttons for 18 yrs & under are $ 3 each.\nButtons are available beginning January 15th at the Levack Mini-Mart, Levack IDA Pharmacy, Onaping Kwik-Way & Roger's Valumart, Dowling & Windy Lake Restaurant

X-ALT-DESC;FMTTYPE=text/html:<!DOCTYPE HTML PUBLIC "-//W3C//DTD HTML 3.2//EN">\n<HTML>\n<HEAD>\n<META NAME="Generator" CONTENT="MS Exchange Server version 08.00.0681.000">\n<TITLE></TITLE>\n</HEAD>\n<BODY>\n<!-- Converted from text/rtf format -->\n\nThe Onaping Falls Winter Carnival is from Friday, February 2nd until Sunday, February 4th in 5 different locations in the Sudbury, Ontario area.<br /><br />For 60 years and counting, Onaping Falls has hosted a Winter Carnival for the community to enjoy winter.<br />Beginning with the Levack-Onaping Winter Carnival in 1964 then the Dowling Winter Carnival beginning in 1971 with Ookpik being born in 1972.  <br />The Winter Carnivals have been a huge event for the residents of Onaping Falls to look forward to every year.     <br />Locations:<br />Russell Beaudry Outdoor Rink<br />From Sudbury: Take Highway 144 N for 34 km.  Turn right onto Regional Rd 8 (signs for Regional Road 8/Onaping /Levack). Turn left onto Onaping Drive. Turn right onto Juniper Street.<br />10 Juniper Street, Onaping – Levack, Ontario P0M 2R0, Canada<br /><br />Dowling Leisure Centre<br />Located on Highway 144 North.<br />79 Main St E, Greater Sudbury Grand Sudbury, Ontario, Canada<br /><br />Onaping Falls Curling Club<br />From Sudbury: Take Highway 144 N for 34 km.  Turn right onto Regional Rd 8 (signs for Regional Road 8/Onaping /Levack). Turn left onto Onaping Drive. Turn right onto Juniper Street. Turn right onto Fraser Extension.<br />10 Fraser Extension, Onaping – Levack, Ontario P0M 2R0, Canada<br /><br />Windy Lake Restaurant<br />From Sudbury: Take Highway 144 N for 39 km.  Turn left onto Old Cartier Road.<br />Windy Lake Motel, Ontario P0M 2R0, Canada<br /><br />Onaping Falls Nordics Ski Club<br />From Sudbury: Take Highway 144 N for 39 km.  Turn left onto Old Cartier Road. Continue for 500m, Ski Club is on the right across from the Windy Lake Provincial Park entrance.<br />Windy Lake Provincial Park, Ontario P0M 2R0, Canada<br /><br /><br /><br />Carnival Buttons are $ 5 each for adults.  You will be entered into a draw.  The draw takes place on Sunday, February 4th at the Onaping Legion @ 5 pm.  <br />The prizes are 1st prize $ 500, 2nd prize $ 250 & 3rd prize $ 100.<br />Carnival Buttons for 18 yrs & under are $ 3 each.<br />Buttons are available beginning January 15th at the Levack Mini-Mart, Levack IDA Pharmacy, Onaping Kwik-Way & Roger's Valumart, Dowling & Windy Lake Restaurant\n\n</BODY>\n</HTML>

LOCATION:2 Hillside Ave, Dowling, ON P0M 1R0, Canada
END:VEVENT

END:VCALENDAR
