BEGIN:VCALENDAR
VERSION:2.0
PRODID:-//hacksw/handcal//NONSGML v1.0//EN
BEGIN:VEVENT
UID:37444b9d00c1b8e337215e70fc3b59c8
DTSTAMP:20260422T231434Z

DTSTART:20240204T170000
DTEND:20240221T170000
SUMMARY:FROSTival 2024 - Fredericton, New Brunswick Canada - 04.02.2024
DESCRIPTION:FROSTival 2024 is from January 18th to February 4th in Fredericton, New Brunswick, Canada.\nCome out and join in the fun at Atlantic Canada's Largest Winter Festival. The whole family will enjoy fun activities including, artisan workshops, skiing, skating, snowshoeing, culinary events, and incredible performances.\nFROSTival events will be at various local venues in Fredericton including Officers' Square, Downtown Fredericton, Crabbe Mountain, The Fredericton Playhouse, and other specific outdoor spaces for snow-related events.\n\nAt FROSTival you will see world-class musical performances and fun family outdoor winter activities.\nWarm up at local award-winning taprooms and breweries and delight in Fredericton's excellent culinary choices when you are hungry.\nFrederiction is beautiful in the winter so mark your calendars and we will see you at FROSTival 2024!

X-ALT-DESC;FMTTYPE=text/html:<!DOCTYPE HTML PUBLIC "-//W3C//DTD HTML 3.2//EN">\n<HTML>\n<HEAD>\n<META NAME="Generator" CONTENT="MS Exchange Server version 08.00.0681.000">\n<TITLE></TITLE>\n</HEAD>\n<BODY>\n<!-- Converted from text/rtf format -->\n\nFROSTival 2024 is from January 18th to February 4th in Fredericton, New Brunswick, Canada.<br />Come out and join in the fun at Atlantic Canada's Largest Winter Festival. The whole family will enjoy fun activities including, artisan workshops, skiing, skating, snowshoeing, culinary events, and incredible performances.<br />FROSTival events will be at various local venues in Fredericton including Officers' Square, Downtown Fredericton, Crabbe Mountain, The Fredericton Playhouse, and other specific outdoor spaces for snow-related events.<br /><br />At FROSTival you will see world-class musical performances and fun family outdoor winter activities.<br />Warm up at local award-winning taprooms and breweries and delight in Fredericton's excellent culinary choices when you are hungry.<br />Frederiction is beautiful in the winter so mark your calendars and we will see you at FROSTival 2024!\n\n</BODY>\n</HTML>

LOCATION:Fredericton, NB, Canada
END:VEVENT

END:VCALENDAR
