BEGIN:VCALENDAR
VERSION:2.0
PRODID:-//hacksw/handcal//NONSGML v1.0//EN
BEGIN:VEVENT
UID:c2cb9c4112405f150fab93f2f8ede625
DTSTAMP:20260423T080427Z

DTSTART:20240203T100000
DTEND:20240204T160000
SUMMARY:Barrie Winterfest 2024 - Barrie Ontario Canada
DESCRIPTION:Barrie Winterfest 2024 is Saturday, February 3rd & Sunday, February 4th in Barrie, Ontario, Canada.\nThe festival takes place in various locations throughout Barrie, most at Heritage Park and Meridian Place. Free for the public to attend.\nThere will be fun outdoor activities on Saturday from 10 am to 5 pm and Sunday from 10 am to 4 p.m.\nThe festival fun includes *Polar Bear Dip *Horse-drawn Wagon Rides, *Lumberjack Shows *Tubing *Snow Sliding *Ice Maze & More\nIf you need to warm up there are plenty of indoor activities - *Live entertainment *Concerts *Story readings *Kid's activities\nWinterfest has many Drop-in activities for the whole family, including Ice Skating & much more winter fun.\nFind. Free parking near Heritage Park.\nA free shuttle will be running on Saturday from 9:45 am and also on Sunday.\nThe shuttle will be departing from Barrie Transit stop #203 on Coulter Street behind the Bayfield Mall.\nBarrie Winterfest is one of the Top 100 Best Festivals in Ontario.\nMark your calendars and see you at Barrie Winterfest 2024!\n\n

X-ALT-DESC;FMTTYPE=text/html:<!DOCTYPE HTML PUBLIC "-//W3C//DTD HTML 3.2//EN">\n<HTML>\n<HEAD>\n<META NAME="Generator" CONTENT="MS Exchange Server version 08.00.0681.000">\n<TITLE></TITLE>\n</HEAD>\n<BODY>\n<!-- Converted from text/rtf format -->\n\nBarrie Winterfest 2024 is Saturday, February 3rd & Sunday, February 4th in Barrie, Ontario, Canada.<br />The festival takes place in various locations throughout Barrie, most at Heritage Park and Meridian Place. Free for the public to attend.<br />There will be fun outdoor activities on Saturday from 10 am to 5 pm and Sunday from 10 am to 4 p.m.<br />The festival fun includes *Polar Bear Dip *Horse-drawn Wagon Rides, *Lumberjack Shows *Tubing *Snow Sliding *Ice Maze & More<br />If you need to warm up there are plenty of indoor activities - *Live entertainment *Concerts *Story readings *Kid's activities<br />Winterfest has many Drop-in activities for the whole family, including Ice Skating & much more winter fun.<br />Find. Free parking near Heritage Park.<br />A free shuttle will be running on Saturday from 9:45 am and also on Sunday.<br />The shuttle will be departing from Barrie Transit stop #203 on Coulter Street behind the Bayfield Mall.<br />Barrie Winterfest is one of the Top 100 Best Festivals in Ontario.<br />Mark your calendars and see you at Barrie Winterfest 2024!<br /><br />\n\n</BODY>\n</HTML>

LOCATION:Heritage Park, Barrie, ON, Canada
END:VEVENT

END:VCALENDAR
