BEGIN:VCALENDAR
VERSION:2.0
PRODID:-//hacksw/handcal//NONSGML v1.0//EN
BEGIN:VEVENT
UID:e143c56398588931d2dc83f02e33a1c7
DTSTAMP:20260426T021414Z

DTSTART:20240108T170000
DTEND:20240213T210000
SUMMARY:Festival of Music & Lights 2023 - St. John's Newfoundland Canada - 08.01.2024
DESCRIPTION:The Festival of Lights and Music is from December 2nd until January 7th, 2024 at Bowring Park,  St. John's, Newfoundland.\nThis FREE family event includes festival music, free hot chocolate, entertainment, and hundreds of thousands of colorful festive lights.\nJoin in while the Duck Pond at Bowring Park becomes illuminated with the reflection of the gorgeous holiday lights throughout the Park.\nSome of the great performers this year are Sherry Ryan, Salt Beef Junkies, and Boogie Babes. Bundle up and join in the holiday fun!

X-ALT-DESC;FMTTYPE=text/html:<!DOCTYPE HTML PUBLIC "-//W3C//DTD HTML 3.2//EN">\n<HTML>\n<HEAD>\n<META NAME="Generator" CONTENT="MS Exchange Server version 08.00.0681.000">\n<TITLE></TITLE>\n</HEAD>\n<BODY>\n<!-- Converted from text/rtf format -->\n\nThe Festival of Lights and Music is from December 2nd until January 7th, 2024 at Bowring Park,  St. John's, Newfoundland.<br />This FREE family event includes festival music, free hot chocolate, entertainment, and hundreds of thousands of colorful festive lights.<br />Join in while the Duck Pond at Bowring Park becomes illuminated with the reflection of the gorgeous holiday lights throughout the Park.<br />Some of the great performers this year are Sherry Ryan, Salt Beef Junkies, and Boogie Babes. Bundle up and join in the holiday fun!\n\n</BODY>\n</HTML>

LOCATION:Bowring Park, 305 Waterford Bridge Rd, St. John's, NL A1E 1E7, Canada
END:VEVENT

END:VCALENDAR
