BEGIN:VCALENDAR
VERSION:2.0
PRODID:-//hacksw/handcal//NONSGML v1.0//EN
BEGIN:VEVENT
UID:be35dd219196da07bee5a319170ca93e
DTSTAMP:20260420T045710Z

DTSTART:20231125T110000
DTEND:20231125T130000
SUMMARY:Fort McLeod Santa Claus Parade 2023 - Fort McLeod Alberta Canada
DESCRIPTION:The Fort McLeod Santa Claus Parade 2023 is Celebrating 40 Years of Christmas on Saturday, November 25th in Fort McLeod, Alberta, Canada\nThere will be a MOONLIGHT MADNESS event on Friday, November 24th starting at 5:30 pm in Downtown Fort McLeod.\nOn Saturday at 11 am the Santa Claus Parade starts and will come along Main Street. \nBring your chairs, and blankets and be ready for a fantastic parade and Santa Coming To Town!

X-ALT-DESC;FMTTYPE=text/html:<!DOCTYPE HTML PUBLIC "-//W3C//DTD HTML 3.2//EN">\n<HTML>\n<HEAD>\n<META NAME="Generator" CONTENT="MS Exchange Server version 08.00.0681.000">\n<TITLE></TITLE>\n</HEAD>\n<BODY>\n<!-- Converted from text/rtf format -->\n\nThe Fort McLeod Santa Claus Parade 2023 is Celebrating 40 Years of Christmas on Saturday, November 25th in Fort McLeod, Alberta, Canada<br />There will be a MOONLIGHT MADNESS event on Friday, November 24th starting at 5:30 pm in Downtown Fort McLeod.<br />On Saturday at 11 am the Santa Claus Parade starts and will come along Main Street. <br />Bring your chairs, and blankets and be ready for a fantastic parade and Santa Coming To Town!\n\n</BODY>\n</HTML>

LOCATION:Fort Macleod, AB, Canada
END:VEVENT

END:VCALENDAR
