BEGIN:VCALENDAR
VERSION:2.0
PRODID:-//hacksw/handcal//NONSGML v1.0//EN
BEGIN:VEVENT
UID:8b8d66d4c583b0c451d739e8b5df5a31
DTSTAMP:20260424T163527Z

DTSTART:20231208T173000
DTEND:20231208T173000
SUMMARY:Annual Port de Grave Christmas Boat Lighting 2023 Newfoundland and Labrador Canada 
DESCRIPTION:The 25th Annual Port de Grave Christmas Boat Lighting 2023 takes place in the Newfoundland harbour on Friday December 8th 2023 at 5:30 pm at Marginal Wharf. Located an approximate 1 hour drive from the Capital City of St. John’s, Christmas in the Harbour is a NL holiday tradition that I look forward to every year. The many fishing boats in the port are festively decorated for Santa transforming the water into a “floating North Pole”. Approximately 50-60 local fishing boats are lit brightly until Old Christmas Day on January 6 2024. Don’t forget your coffee, tea or hot chocolate for browsing the wharves and festive Newfoundland Christmas Display in Port de Grave Canada. \n

X-ALT-DESC;FMTTYPE=text/html:<!DOCTYPE HTML PUBLIC "-//W3C//DTD HTML 3.2//EN">\n<HTML>\n<HEAD>\n<META NAME="Generator" CONTENT="MS Exchange Server version 08.00.0681.000">\n<TITLE></TITLE>\n</HEAD>\n<BODY>\n<!-- Converted from text/rtf format -->\n\nThe 25th Annual Port de Grave Christmas Boat Lighting 2023 takes place in the Newfoundland harbour on Friday December 8th 2023 at 5:30 pm at Marginal Wharf. Located an approximate 1 hour drive from the Capital City of St. John’s, Christmas in the Harbour is a NL holiday tradition that I look forward to every year. The many fishing boats in the port are festively decorated for Santa transforming the water into a “floating North Pole”. Approximately 50-60 local fishing boats are lit brightly until Old Christmas Day on January 6 2024. Don’t forget your coffee, tea or hot chocolate for browsing the wharves and festive Newfoundland Christmas Display in Port de Grave Canada. <br />\n\n</BODY>\n</HTML>

LOCATION:
END:VEVENT

END:VCALENDAR
