BEGIN:VCALENDAR
VERSION:2.0
PRODID:-//hacksw/handcal//NONSGML v1.0//EN
BEGIN:VEVENT
UID:860377b716e28b7ee1d6cce7afaecc30
DTSTAMP:20260422T091238Z

DTSTART:20231125T160000
DTEND:20231125T190000
SUMMARY:Countdown to Carnival 2023
DESCRIPTION:Vernon Winter Carnival celebrates 67 days until its 2024 event by doing a countdown holiday-style event! \nA night of family, vendors, lights, hot chocolate, hot cider, food trucks and more!\nAnnounced for this year are Performances by the Beristo school choir and Seaton High School choir!\nThere will also be a live carving event; we are hoping this is ice carving as seen in the past!\n\nThis free event is perfect for family and friends to celebrate the season and Vernon WInter Carnival!

X-ALT-DESC;FMTTYPE=text/html:<!DOCTYPE HTML PUBLIC "-//W3C//DTD HTML 3.2//EN">\n<HTML>\n<HEAD>\n<META NAME="Generator" CONTENT="MS Exchange Server version 08.00.0681.000">\n<TITLE></TITLE>\n</HEAD>\n<BODY>\n<!-- Converted from text/rtf format -->\n\nVernon Winter Carnival celebrates 67 days until its 2024 event by doing a countdown holiday-style event! <br />A night of family, vendors, lights, hot chocolate, hot cider, food trucks and more!<br />Announced for this year are Performances by the Beristo school choir and Seaton High School choir!<br />There will also be a live carving event; we are hoping this is ice carving as seen in the past!<br /><br />This free event is perfect for family and friends to celebrate the season and Vernon WInter Carnival!\n\n</BODY>\n</HTML>

LOCATION:Vernon, BC, Canada
END:VEVENT

END:VCALENDAR
