BEGIN:VCALENDAR
VERSION:2.0
PRODID:-//hacksw/handcal//NONSGML v1.0//EN
BEGIN:VEVENT
UID:570df1c67f62aa3d955a221762e43eb7
DTSTAMP:20260421T215041Z

DTSTART:20231029T110000
DTEND:20231029T153000
SUMMARY:Iron Horse Park Halloween Train 2023 - Airdrie Alberta Canada
DESCRIPTION:Ride the Halloween Train 2023 at Iron Horse Park on Sunday, October 29th in Airdrie, Alberta, Canada.\nThe kids will love the non-spooky Halloween Train at Iron Horse Park so mark your calendars and watch for weather updates. (The event is weather permitting)\nOpen 11 am to 3:30 pm\nWear a costume for 1 FREE Train Ride per person!\nPlease bring a non-perishable food item for the Airdrie Food Bank.\nRegular train ticket prices are $3.00 per ride with all proceeds going to the Airdrie Food Bank.\nTicket Bundles of 8 for $20.00 are also available\nChildren under 3 ride for free but must be accompanied by an adult.\nSee you on October 29th !!!

X-ALT-DESC;FMTTYPE=text/html:<!DOCTYPE HTML PUBLIC "-//W3C//DTD HTML 3.2//EN">\n<HTML>\n<HEAD>\n<META NAME="Generator" CONTENT="MS Exchange Server version 08.00.0681.000">\n<TITLE></TITLE>\n</HEAD>\n<BODY>\n<!-- Converted from text/rtf format -->\n\nRide the Halloween Train 2023 at Iron Horse Park on Sunday, October 29th in Airdrie, Alberta, Canada.<br />The kids will love the non-spooky Halloween Train at Iron Horse Park so mark your calendars and watch for weather updates. (The event is weather permitting)<br />Open 11 am to 3:30 pm<br />Wear a costume for 1 FREE Train Ride per person!<br />Please bring a non-perishable food item for the Airdrie Food Bank.<br />Regular train ticket prices are $3.00 per ride with all proceeds going to the Airdrie Food Bank.<br />Ticket Bundles of 8 for $20.00 are also available<br />Children under 3 ride for free but must be accompanied by an adult.<br />See you on October 29th !!!\n\n</BODY>\n</HTML>

LOCATION:Iron Horse Park, 820 Railway Gate SW, Airdrie, AB T4B 0L4, Canada
END:VEVENT

END:VCALENDAR
