BEGIN:VCALENDAR
VERSION:2.0
PRODID:-//hacksw/handcal//NONSGML v1.0//EN
BEGIN:VEVENT
UID:96b3572d53517d48636b07c6eabecf59
DTSTAMP:20260421T091639Z

DTSTART:20231014T083000
DTEND:20231014T150000
SUMMARY:Vernon Ski Swap 2023
DESCRIPTION:Are you ready for Vernon Ski Swap 2023? Join us for the biggest swap in the interior on Saturday, October 14th from 8:30am to 3:00pm at The Vernon Rec Centre! You can buy or sell new and used equipment and clothing for downhill, snowboard, and X-country skiing. If you want to sell your gear, bring it to us on Friday, October 13th from 3:30pm to 7:00pm. Find more details about consignment, purchasing, and other information on our website www.vernonskiclub.ca.

X-ALT-DESC;FMTTYPE=text/html:<!DOCTYPE HTML PUBLIC "-//W3C//DTD HTML 3.2//EN">\n<HTML>\n<HEAD>\n<META NAME="Generator" CONTENT="MS Exchange Server version 08.00.0681.000">\n<TITLE></TITLE>\n</HEAD>\n<BODY>\n<!-- Converted from text/rtf format -->\n\nAre you ready for Vernon Ski Swap 2023? Join us for the biggest swap in the interior on Saturday, October 14th from 8:30am to 3:00pm at The Vernon Rec Centre! You can buy or sell new and used equipment and clothing for downhill, snowboard, and X-country skiing. If you want to sell your gear, bring it to us on Friday, October 13th from 3:30pm to 7:00pm. Find more details about consignment, purchasing, and other information on our website www.vernonskiclub.ca.\n\n</BODY>\n</HTML>

LOCATION:Vernon, BC, Canada
END:VEVENT

END:VCALENDAR
