BEGIN:VCALENDAR
VERSION:2.0
PRODID:-//hacksw/handcal//NONSGML v1.0//EN
BEGIN:VEVENT
UID:80f727685cac4b39ea60478e09b35ab3
DTSTAMP:20260420T154345Z

DTSTART:20231031T150000
DTEND:20231031T170000
SUMMARY:Downtown Vernon Trick or Treat Trail 2023
DESCRIPTION:The popular family fun TREAT TRAIL returns to downtown Vernon! Dress up and visit a selection of shops offering delicious food in the city centre. The list of participating companies can be found on our website and social networks (the full list will be available at least a few days before Halloween).\nHosted by TOLKO and DVA

X-ALT-DESC;FMTTYPE=text/html:<!DOCTYPE HTML PUBLIC "-//W3C//DTD HTML 3.2//EN">\n<HTML>\n<HEAD>\n<META NAME="Generator" CONTENT="MS Exchange Server version 08.00.0681.000">\n<TITLE></TITLE>\n</HEAD>\n<BODY>\n<!-- Converted from text/rtf format -->\n\nThe popular family fun TREAT TRAIL returns to downtown Vernon! Dress up and visit a selection of shops offering delicious food in the city centre. The list of participating companies can be found on our website and social networks (the full list will be available at least a few days before Halloween).<br />Hosted by TOLKO and DVA\n\n</BODY>\n</HTML>

LOCATION:3334 30th Ave, Vernon, BC V1T 2C3, Canada
END:VEVENT

END:VCALENDAR
