BEGIN:VCALENDAR
VERSION:2.0
PRODID:-//hacksw/handcal//NONSGML v1.0//EN
BEGIN:VEVENT
UID:6be6c57bf47f37d0ac7ce5d8c172e42b
DTSTAMP:20260420T062319Z

DTSTART:20231028T200000
DTEND:20231112T230000
SUMMARY:Fright House 2023 - Morley Alberta Canada - 28.10.2023
DESCRIPTION:Fright House 2023 in Morley, Alberta, Canada opens on Friday, October 13th until Saturday, October 29th on Fridays and Saturdays only.\nThe Chi Gi Ghost is waiting for you in a real empty haunted house on the Reservation of the Stoney Nakoda Nation. \nCan you make it through the whole haunted house or will you run screaming?\nEmpty for 25 years this haunted house is full of Ghosts? Spirits? Evil? \nor An Indigenous Horror Legend? Dare you to find out!\n\nThis Fright House is NOT FOR THE WEAK!\n\nThis Bow Valley Halloween event is recommended for ages 13+\n\nFright House is approximately 2 km south of Highway 1 on Highway 40 in Kananaskis Country.\nTake the 1st right onto a gravel road. \nFollow the signs to the Fright House.\nGPS coordinates: 51.0823560 -115.0206136\nBuy Passes @eventbrite Fright House Morley \n\n#frighthousemorley2023\n#bowvalleyhauntedattractions\n#halloween2023\n#canadian_cary_adventureseeker\n#hauntedkananaskis 

X-ALT-DESC;FMTTYPE=text/html:<!DOCTYPE HTML PUBLIC "-//W3C//DTD HTML 3.2//EN">\n<HTML>\n<HEAD>\n<META NAME="Generator" CONTENT="MS Exchange Server version 08.00.0681.000">\n<TITLE></TITLE>\n</HEAD>\n<BODY>\n<!-- Converted from text/rtf format -->\n\nFright House 2023 in Morley, Alberta, Canada opens on Friday, October 13th until Saturday, October 29th on Fridays and Saturdays only.<br />The Chi Gi Ghost is waiting for you in a real empty haunted house on the Reservation of the Stoney Nakoda Nation. <br />Can you make it through the whole haunted house or will you run screaming?<br />Empty for 25 years this haunted house is full of Ghosts? Spirits? Evil? <br />or An Indigenous Horror Legend? Dare you to find out!<br /><br />This Fright House is NOT FOR THE WEAK!<br /><br />This Bow Valley Halloween event is recommended for ages 13+<br /><br />Fright House is approximately 2 km south of Highway 1 on Highway 40 in Kananaskis Country.<br />Take the 1st right onto a gravel road. <br />Follow the signs to the Fright House.<br />GPS coordinates: 51.0823560 -115.0206136<br />Buy Passes @eventbrite Fright House Morley <br /><br />#frighthousemorley2023<br />#bowvalleyhauntedattractions<br />#halloween2023<br />#canadian_cary_adventureseeker<br />#hauntedkananaskis \n\n</BODY>\n</HTML>

LOCATION:Morley, AB T0L 1N0, Canada
END:VEVENT

END:VCALENDAR
