BEGIN:VCALENDAR
VERSION:2.0
PRODID:-//hacksw/handcal//NONSGML v1.0//EN
BEGIN:VEVENT
UID:f585fe334dfd87f0b5027f533de2d78c
DTSTAMP:20260420T172814Z

DTSTART:20231007T160000
DTEND:20231010T180000
SUMMARY:Dorchester Fall Fair 2023 - Dorchester, Ontario, Canada - 07.10.2023
DESCRIPTION:The 168th Dorchester Fall Fair will be on Thanksgiving Weekend from Friday, October 6th to Monday, October 9th at the Dorchester Fairgrounds, Dorchester, Ontario, Canada.\nCome out for some Hay-larious Fall Fun at the Parade on Saturday to kick off the Fair.\nLots to see and do, *Agriculture Displays *Midway *Homecraft Exhibits \n*Demolition Derby *Outdoor Entertainment Stage and more!\nThis year the Fairs theme is HAY-larious Fall Fun!\nFair Hours\nFriday - BUILDINGS CLOSED Free Admission to grounds; Midway opens at 4 pm\nSaturday - 10 am - 5 pm\nSunday - 10 am - 4 pm\nMonday - 10 am - 5 pm\n\nGate Admission\nElementary Students - $4.00\nHigh School Students - $8.00\nAdults - $8.00\nChildren 5 and Under FREE\n​

X-ALT-DESC;FMTTYPE=text/html:<!DOCTYPE HTML PUBLIC "-//W3C//DTD HTML 3.2//EN">\n<HTML>\n<HEAD>\n<META NAME="Generator" CONTENT="MS Exchange Server version 08.00.0681.000">\n<TITLE></TITLE>\n</HEAD>\n<BODY>\n<!-- Converted from text/rtf format -->\n\nThe 168th Dorchester Fall Fair will be on Thanksgiving Weekend from Friday, October 6th to Monday, October 9th at the Dorchester Fairgrounds, Dorchester, Ontario, Canada.<br />Come out for some Hay-larious Fall Fun at the Parade on Saturday to kick off the Fair.<br />Lots to see and do, *Agriculture Displays *Midway *Homecraft Exhibits <br />*Demolition Derby *Outdoor Entertainment Stage and more!<br />This year the Fairs theme is HAY-larious Fall Fun!<br />Fair Hours<br />Friday - BUILDINGS CLOSED Free Admission to grounds; Midway opens at 4 pm<br />Saturday - 10 am - 5 pm<br />Sunday - 10 am - 4 pm<br />Monday - 10 am - 5 pm<br /><br />Gate Admission<br />Elementary Students - $4.00<br />High School Students - $8.00<br />Adults - $8.00<br />Children 5 and Under FREE<br />​\n\n</BODY>\n</HTML>

LOCATION:4939 Hamilton Rd, Dorchester, ON N0L 1G6, Canada
END:VEVENT

END:VCALENDAR
