BEGIN:VCALENDAR
VERSION:2.0
PRODID:-//hacksw/handcal//NONSGML v1.0//EN
BEGIN:VEVENT
UID:6d2f7380cfb123345ff1e71b019e7f05
DTSTAMP:20260420T125012Z

DTSTART:20231001T160000
DTEND:20231004T200000
SUMMARY:Caledonia Fall Fair 2023 - Caledonia, Ontario Canada - 01.10.2023
DESCRIPTION:The 151st Caledonia Fall Fair in 2023 is from Thursday, September 28th to Sunday, October 1st at the Fairgrounds, Caledonia, Ontario, Canada.\n\n\nFUN FAIR ATTRACTIONS FOR EVERYONE\nThe Caledonia Fair is one fair that has absolutely tons of family-friendly activities and exhibits that are included with your admission. \n\nFamily Shows and Fun for All!\n*Live Music\n*Heavy Horse Show\n*Little Ray's Reptile Zoo\n*Poultry, Pigeons, Rabbits\n*Homecraft Exhibition\n*Baby Show\n*Cool & Classic Car Cruise\n*Miniature Horse Show\n*Beef Cattle Show\n*Goat Show\n*Pie Eating Contest\n*Food Trucks\n*Vendors Market\nAnd so much more !!!\n\nSaturday at 7:30 pm be ready and in the Grandstand for the smash, crash, and thrill of the Demolition Derby. Everyone's favorite event!\n\nMidway Hours:\nThursday 4:00 - 10:00\nFriday 2:00 - 10:00\nSaturday 10:00 - 10:00\nSunday 12:00 - 6:00\n\nAdmission\nGeneral: $12.00\nSeniors (65+): $10.00\nHigh School Students: $6.00 (until 4 pm)\nElementary School Children & Younger: FREE!

X-ALT-DESC;FMTTYPE=text/html:<!DOCTYPE HTML PUBLIC "-//W3C//DTD HTML 3.2//EN">\n<HTML>\n<HEAD>\n<META NAME="Generator" CONTENT="MS Exchange Server version 08.00.0681.000">\n<TITLE></TITLE>\n</HEAD>\n<BODY>\n<!-- Converted from text/rtf format -->\n\nThe 151st Caledonia Fall Fair in 2023 is from Thursday, September 28th to Sunday, October 1st at the Fairgrounds, Caledonia, Ontario, Canada.<br /><br /><br />FUN FAIR ATTRACTIONS FOR EVERYONE<br />The Caledonia Fair is one fair that has absolutely tons of family-friendly activities and exhibits that are included with your admission. <br /><br />Family Shows and Fun for All!<br />*Live Music<br />*Heavy Horse Show<br />*Little Ray's Reptile Zoo<br />*Poultry, Pigeons, Rabbits<br />*Homecraft Exhibition<br />*Baby Show<br />*Cool & Classic Car Cruise<br />*Miniature Horse Show<br />*Beef Cattle Show<br />*Goat Show<br />*Pie Eating Contest<br />*Food Trucks<br />*Vendors Market<br />And so much more !!!<br /><br />Saturday at 7:30 pm be ready and in the Grandstand for the smash, crash, and thrill of the Demolition Derby. Everyone's favorite event!<br /><br />Midway Hours:<br />Thursday 4:00 - 10:00<br />Friday 2:00 - 10:00<br />Saturday 10:00 - 10:00<br />Sunday 12:00 - 6:00<br /><br />Admission<br />General: $12.00<br />Seniors (65+): $10.00<br />High School Students: $6.00 (until 4 pm)<br />Elementary School Children & Younger: FREE!\n\n</BODY>\n</HTML>

LOCATION:151 Caithness St E, Caledonia, ON N3W 1C2, Canada
END:VEVENT

END:VCALENDAR
