BEGIN:VCALENDAR
VERSION:2.0
PRODID:-//hacksw/handcal//NONSGML v1.0//EN
BEGIN:VEVENT
UID:6ab7e9cb53070bf46e9945b9f6a6a874
DTSTAMP:20260421T075111Z

DTSTART:20230813T120000
DTEND:20230813T190000
SUMMARY:Cochrane Food Fest 2023 - Cochrane Alberta Canada
DESCRIPTION:Come celebrate the taste of local at the 2023 Cochrane Food Fest at Mitford Park, Cochrane, Alberta, Canada on Sunday, August 13th from Noon to 7 pm.\nTaste incredible local foods and drinks crafted by local vendors, along with live entertainment, family-friendly activities, and an awesome marketplace!\nAt this year's Cochrane Food Fest, you can sample a wider variety of bite-sized portions. A mini taste experience or the vendor's full menus to choose from.\nThe Beer Garden will be serving locally crafted drinks from:\nHalf Hitch Brewing Company \nRocky View Brewing Company \nFallentimber Meadery \nSomething for everyone at the 2023 Cochrane Food Fest!\n

X-ALT-DESC;FMTTYPE=text/html:<!DOCTYPE HTML PUBLIC "-//W3C//DTD HTML 3.2//EN">\n<HTML>\n<HEAD>\n<META NAME="Generator" CONTENT="MS Exchange Server version 08.00.0681.000">\n<TITLE></TITLE>\n</HEAD>\n<BODY>\n<!-- Converted from text/rtf format -->\n\nCome celebrate the taste of local at the 2023 Cochrane Food Fest at Mitford Park, Cochrane, Alberta, Canada on Sunday, August 13th from Noon to 7 pm.<br />Taste incredible local foods and drinks crafted by local vendors, along with live entertainment, family-friendly activities, and an awesome marketplace!<br />At this year's Cochrane Food Fest, you can sample a wider variety of bite-sized portions. A mini taste experience or the vendor's full menus to choose from.<br />The Beer Garden will be serving locally crafted drinks from:<br />Half Hitch Brewing Company <br />Rocky View Brewing Company <br />Fallentimber Meadery <br />Something for everyone at the 2023 Cochrane Food Fest!<br />\n\n</BODY>\n</HTML>

LOCATION:Mitford Park, 201 W Rock Rd, Cochrane, AB T4C 1M1, Canada
END:VEVENT

END:VCALENDAR
