BEGIN:VCALENDAR
VERSION:2.0
PRODID:-//hacksw/handcal//NONSGML v1.0//EN
BEGIN:VEVENT
UID:24e5441ab88cfe270a347e2f4508804f
DTSTAMP:20260424T143545Z

DTSTART:20230729T100000
DTEND:20230729T170000
SUMMARY:Indonesian Food Festival 2023 in Toronto, Ontario
DESCRIPTION:Don't miss out as Toronto is back with another food festival. This time, we're going all the way to Southeast Asia and bringing you a slice of Indonesian heaven.\n\nThe Indonesian Food Festival, organized by the Indonesian Consulate General in Toronto, is an annual cultural celebration that brings together the vibrant Indonesian community in Toronto, Ontario. The festival aims to showcase the richness and diversity of Indonesian culture through food, music, dance, art and so much more.\n\nThe festival will also warmly welcome everyone with traditional cultural and stage performances, as well as showcasing the enchanting tourist destinations in Indonesia. The traditional martial arts of "Pencak Silat", Bali and Javanese Gamelans, Saman Dance, Angklung, as well as contemporary music bands will indulge the visitor eyes and ears all day long.

X-ALT-DESC;FMTTYPE=text/html:<!DOCTYPE HTML PUBLIC "-//W3C//DTD HTML 3.2//EN">\n<HTML>\n<HEAD>\n<META NAME="Generator" CONTENT="MS Exchange Server version 08.00.0681.000">\n<TITLE></TITLE>\n</HEAD>\n<BODY>\n<!-- Converted from text/rtf format -->\n\nDon't miss out as Toronto is back with another food festival. This time, we're going all the way to Southeast Asia and bringing you a slice of Indonesian heaven.<br /><br />The Indonesian Food Festival, organized by the Indonesian Consulate General in Toronto, is an annual cultural celebration that brings together the vibrant Indonesian community in Toronto, Ontario. The festival aims to showcase the richness and diversity of Indonesian culture through food, music, dance, art and so much more.<br /><br />The festival will also warmly welcome everyone with traditional cultural and stage performances, as well as showcasing the enchanting tourist destinations in Indonesia. The traditional martial arts of "Pencak Silat", Bali and Javanese Gamelans, Saman Dance, Angklung, as well as contemporary music bands will indulge the visitor eyes and ears all day long.\n\n</BODY>\n</HTML>

LOCATION:1 Dundas St E, Toronto, ON M5B, Canada
END:VEVENT

END:VCALENDAR
