BEGIN:VCALENDAR
VERSION:2.0
PRODID:-//hacksw/handcal//NONSGML v1.0//EN
BEGIN:VEVENT
UID:065474d3cd0bba6e188f6109a1932e47
DTSTAMP:20260420T022644Z

DTSTART:20230805T153000
DTEND:20230807T210000
SUMMARY:Canmore Folk Music Festival 2023 - Canmore Alberta Canada
DESCRIPTION:A stunning scenic background and 3 days of fabulous music at the 2023 Canmore Folk Music Festival from August 5th to 7th in Canmore, Alberta.\nHeld at Centennial Park some of the performing artists are Abigail Lapell , Aleksi Campagne, Andrina Turenne , Allison Russell, The Arrogant Worms, David Keenan, The Fretless with Madeleine Roger, Harley Kimbro Lewis, Inn Echo, Irish Mythen, Jake Vaadeland and the Sturgeon River Boys, The Mbira Renaissance Band and more!\nThe majority of the festival site is an open field, so please take what you need for rain or shine.\nSaturday\n3:30 p.m. Main Gate opens\n9:30 p.m. Main Gate closes\nSunday\n9:30 a.m. Main Gate opens\n9:30 p.m. Main Gate closes\nMonday\n9:30 a.m. Main Gate opens\n9:00 p.m. Main Gate closes\n\nThere is no reserved seating at the side stages. \nThey do NOT allow small tents to be set up on site.\nPets are not allowed on the festival grounds, as per municipal bylaws.\n

X-ALT-DESC;FMTTYPE=text/html:<!DOCTYPE HTML PUBLIC "-//W3C//DTD HTML 3.2//EN">\n<HTML>\n<HEAD>\n<META NAME="Generator" CONTENT="MS Exchange Server version 08.00.0681.000">\n<TITLE></TITLE>\n</HEAD>\n<BODY>\n<!-- Converted from text/rtf format -->\n\nA stunning scenic background and 3 days of fabulous music at the 2023 Canmore Folk Music Festival from August 5th to 7th in Canmore, Alberta.<br />Held at Centennial Park some of the performing artists are Abigail Lapell , Aleksi Campagne, Andrina Turenne , Allison Russell, The Arrogant Worms, David Keenan, The Fretless with Madeleine Roger, Harley Kimbro Lewis, Inn Echo, Irish Mythen, Jake Vaadeland and the Sturgeon River Boys, The Mbira Renaissance Band and more!<br />The majority of the festival site is an open field, so please take what you need for rain or shine.<br />Saturday<br />3:30 p.m. Main Gate opens<br />9:30 p.m. Main Gate closes<br />Sunday<br />9:30 a.m. Main Gate opens<br />9:30 p.m. Main Gate closes<br />Monday<br />9:30 a.m. Main Gate opens<br />9:00 p.m. Main Gate closes<br /><br />There is no reserved seating at the side stages. <br />They do NOT allow small tents to be set up on site.<br />Pets are not allowed on the festival grounds, as per municipal bylaws.<br />\n\n</BODY>\n</HTML>

LOCATION:Centennial Park, 5 Ave, Canmore, AB T1W, Canada
END:VEVENT

END:VCALENDAR
