BEGIN:VCALENDAR
VERSION:2.0
PRODID:-//hacksw/handcal//NONSGML v1.0//EN
BEGIN:VEVENT
UID:b8a559ea73ae6c9bbc95d8b9c8e9414d
DTSTAMP:20260423T193000Z

DTSTART:20230707T180000
DTEND:20230709T190000
SUMMARY:Taste of Lawrence Festival 2023 in Scarborough, Ontario
DESCRIPTION:Taste of Lawrence is a three-day food, music and cultural festival that takes place annually in the Wexford Heights BIA in Scarborough, Ontario, Canada. The festival takes place on Lawrence Avenue East, Warden to Birchmount.\n\nAs Scarborough’s largest street festival, it boasts the most enticing flavours from every cultural community in the GTA, over 130 street vendors, live entertainment on two stages, midway rides, kid workshops and so much more. \n\nEVENT FEATURES\n\nOver 130 street vendors\n\nExceptional International food options\n\nThe best of shop local\n\nMain stage featuring the nation’s best tribute bands and local talent\n\nMain stage beer garden by Great Lakes Brewery\n\nSponsor Spotlight Mila Madison Group \n\nCommunity stage featuring cultural and music performances from local dance studios and artists\n\nGymnastics showcase by Birchmount Gymnastics Centre\n\nExotic Car Display by GTA Exotics\n\nSpecial feature by Tequila Cazadores\n\nKids workshops by Playocity\n\nMusic and interactive games by Z103.5 \n\nSat. July 8th from 12 - 8pm and Sun. July 9th from 11am – 7pm\n\nSponsor spotlight and car display by Scarboro Mazda\n\n6 Sigma Driving Simulator\n\nFamily entertainment\n\nMidway rides and amusements \n\nA true world festival

X-ALT-DESC;FMTTYPE=text/html:<!DOCTYPE HTML PUBLIC "-//W3C//DTD HTML 3.2//EN">\n<HTML>\n<HEAD>\n<META NAME="Generator" CONTENT="MS Exchange Server version 08.00.0681.000">\n<TITLE></TITLE>\n</HEAD>\n<BODY>\n<!-- Converted from text/rtf format -->\n\nTaste of Lawrence is a three-day food, music and cultural festival that takes place annually in the Wexford Heights BIA in Scarborough, Ontario, Canada. The festival takes place on Lawrence Avenue East, Warden to Birchmount.<br /><br />As Scarborough’s largest street festival, it boasts the most enticing flavours from every cultural community in the GTA, over 130 street vendors, live entertainment on two stages, midway rides, kid workshops and so much more. <br /><br />EVENT FEATURES<br /><br />Over 130 street vendors<br /><br />Exceptional International food options<br /><br />The best of shop local<br /><br />Main stage featuring the nation’s best tribute bands and local talent<br /><br />Main stage beer garden by Great Lakes Brewery<br /><br />Sponsor Spotlight Mila Madison Group <br /><br />Community stage featuring cultural and music performances from local dance studios and artists<br /><br />Gymnastics showcase by Birchmount Gymnastics Centre<br /><br />Exotic Car Display by GTA Exotics<br /><br />Special feature by Tequila Cazadores<br /><br />Kids workshops by Playocity<br /><br />Music and interactive games by Z103.5 <br /><br />Sat. July 8th from 12 - 8pm and Sun. July 9th from 11am – 7pm<br /><br />Sponsor spotlight and car display by Scarboro Mazda<br /><br />6 Sigma Driving Simulator<br /><br />Family entertainment<br /><br />Midway rides and amusements <br /><br />A true world festival\n\n</BODY>\n</HTML>

LOCATION:Scarborough, Toronto, ON, Canada
END:VEVENT

END:VCALENDAR
