BEGIN:VCALENDAR
VERSION:2.0
PRODID:-//hacksw/handcal//NONSGML v1.0//EN
BEGIN:VEVENT
UID:6399c838dbbd2ec065b7f8822ae54956
DTSTAMP:20260421T023214Z

DTSTART:20230527T100000
DTEND:20230528T170000
SUMMARY:Doors Open Toronto 2023
DESCRIPTION:Each May, Doors Open Toronto — presented by Great Gulf — invites you to explore the city’s most-loved buildings and sites, free of charge. The event provides rare access to buildings that are not usually open to the public and free access to sites that would usually charge an admission fee. Since its inception in 2000, it has attracted more than two million visits to nearly 700 unique locations. It remains the largest event of its kind in Canada.\n\nLists of featured sites are available on the website: https://www.toronto.ca/explore-enjoy/festivals-events/doors-open-toronto/\n\nShare your Doors Open experience on social media using #DOT23.

X-ALT-DESC;FMTTYPE=text/html:<!DOCTYPE HTML PUBLIC "-//W3C//DTD HTML 3.2//EN">\n<HTML>\n<HEAD>\n<META NAME="Generator" CONTENT="MS Exchange Server version 08.00.0681.000">\n<TITLE></TITLE>\n</HEAD>\n<BODY>\n<!-- Converted from text/rtf format -->\n\nEach May, Doors Open Toronto — presented by Great Gulf — invites you to explore the city’s most-loved buildings and sites, free of charge. The event provides rare access to buildings that are not usually open to the public and free access to sites that would usually charge an admission fee. Since its inception in 2000, it has attracted more than two million visits to nearly 700 unique locations. It remains the largest event of its kind in Canada.<br /><br />Lists of featured sites are available on the website: https://www.toronto.ca/explore-enjoy/festivals-events/doors-open-toronto/<br /><br />Share your Doors Open experience on social media using #DOT23.\n\n</BODY>\n</HTML>

LOCATION:Toronto, ON, Canada
END:VEVENT

END:VCALENDAR
