BEGIN:VCALENDAR
VERSION:2.0
PRODID:-//hacksw/handcal//NONSGML v1.0//EN
BEGIN:VEVENT
UID:49dc21b7136c7a10e2e0eecc34d3fd8b
DTSTAMP:20260420T014412Z

DTSTART:20230915T190000
DTEND:20230916T210000
SUMMARY:Hanna Indoor Pro Rodeo 2023, Hanna, Alberta, Canada
DESCRIPTION:Dust off those Cowboy Boots & Hats folks, and mark your calendars for the Hanna Indoor Pro Rodeo on September 15th & 16th, 2023!\nThis small-town rodeo has a jam-packed schedule with top Pro Rodeo athletes' performances and, concessions & fun activities.\nRodeos consist of two types of competitions – Rough Stock Events and Timed Events – and an all-around Cowboy Crown. Each competition has its own set of rodeo rules and order of events.\nThis Rodeo gives the contestants one more kick at the can to get their ranks up high enough to attend the CPR Finals in Red Deer.\nCome on out and cheer them on. \nWe'll see ya there!\n

X-ALT-DESC;FMTTYPE=text/html:<!DOCTYPE HTML PUBLIC "-//W3C//DTD HTML 3.2//EN">\n<HTML>\n<HEAD>\n<META NAME="Generator" CONTENT="MS Exchange Server version 08.00.0681.000">\n<TITLE></TITLE>\n</HEAD>\n<BODY>\n<!-- Converted from text/rtf format -->\n\nDust off those Cowboy Boots & Hats folks, and mark your calendars for the Hanna Indoor Pro Rodeo on September 15th & 16th, 2023!<br />This small-town rodeo has a jam-packed schedule with top Pro Rodeo athletes' performances and, concessions & fun activities.<br />Rodeos consist of two types of competitions – Rough Stock Events and Timed Events – and an all-around Cowboy Crown. Each competition has its own set of rodeo rules and order of events.<br />This Rodeo gives the contestants one more kick at the can to get their ranks up high enough to attend the CPR Finals in Red Deer.<br />Come on out and cheer them on. <br />We'll see ya there!<br />\n\n</BODY>\n</HTML>

LOCATION:501A 3 St W, Hanna, AB T0J 1P0, Canada
END:VEVENT

END:VCALENDAR
