BEGIN:VCALENDAR
VERSION:2.0
PRODID:-//hacksw/handcal//NONSGML v1.0//EN
BEGIN:VEVENT
UID:dee7502a6adaa683541ac88cde4e970e
DTSTAMP:20260425T133528Z

DTSTART:20230625T190000
DTEND:20230628T210000
SUMMARY:Long Day's Night Music Festival 2023, Swift Current, Saskatchewan, Canada - 25.06.2023
DESCRIPTION:Join in under the big prairie skies June 22-25 in Swift Current, Saskatchewan, Canada for a Long Day's Night Music Festival!\n\nThursday, June 23rd, 2023 is Arcana Kings\n\nFriday, June 24th, 2023 is The Royal Foundry \n\nSaturday, June 25th, 2023 is Begonia\n\nSunday, June 26th, 2023 is Mariel Buckley\n\nFestival Passes & Individual Tickets are on sale now at longdaysnight.ca

X-ALT-DESC;FMTTYPE=text/html:<!DOCTYPE HTML PUBLIC "-//W3C//DTD HTML 3.2//EN">\n<HTML>\n<HEAD>\n<META NAME="Generator" CONTENT="MS Exchange Server version 08.00.0681.000">\n<TITLE></TITLE>\n</HEAD>\n<BODY>\n<!-- Converted from text/rtf format -->\n\nJoin in under the big prairie skies June 22-25 in Swift Current, Saskatchewan, Canada for a Long Day's Night Music Festival!<br /><br />Thursday, June 23rd, 2023 is Arcana Kings<br /><br />Friday, June 24th, 2023 is The Royal Foundry <br /><br />Saturday, June 25th, 2023 is Begonia<br /><br />Sunday, June 26th, 2023 is Mariel Buckley<br /><br />Festival Passes & Individual Tickets are on sale now at longdaysnight.ca\n\n</BODY>\n</HTML>

LOCATION:Marston St & 11 Ave SW, Swift Current, SK S9H 5M6, Canada
END:VEVENT

END:VCALENDAR
