BEGIN:VCALENDAR
VERSION:2.0
PRODID:-//hacksw/handcal//NONSGML v1.0//EN
BEGIN:VEVENT
UID:42bfe37792172d675558e3dbeab8550f
DTSTAMP:20260420T080052Z

DTSTART:20230422T080000
DTEND:20230423T180000
SUMMARY:2023 Snow Goose Festival, Tofield, Alberta, Canada
DESCRIPTION:2023 Snow Goose Festival\n\nJoin the celebration of spring migration going on at the 2023 Snow Goose Festival in Tofield, Alberta on April 22 & 23! Everyone is welcome to come out and enjoy the awesome spectacle of thousands of snow geese, Canada geese, shorebirds, cranes, and swans passing over the Beaverhill Lake area this spring.\n\nBring your binoculars, spotting scopes, cameras, and sense of adventure!  The festival features FREE ACTIVITIES, including a Trade Show in the Tofield Arena (8 am - 6 pm) with vendors, speakers, and activities for the entire family.  Take advantage of the FREE SHUTTLE from the Bethel Transit Terminal in Sherwood Park to get to the festival.  Sign up for 2 or 3 hour wildlife and bird viewing bus tours of local birding hotspots, or register for a 3-hour guided hike.  Finally, tickets are available for a banquet and silent auction! \n\nWith so much to see and do, there is something for everyone!\n

X-ALT-DESC;FMTTYPE=text/html:<!DOCTYPE HTML PUBLIC "-//W3C//DTD HTML 3.2//EN">\n<HTML>\n<HEAD>\n<META NAME="Generator" CONTENT="MS Exchange Server version 08.00.0681.000">\n<TITLE></TITLE>\n</HEAD>\n<BODY>\n<!-- Converted from text/rtf format -->\n\n2023 Snow Goose Festival<br /><br />Join the celebration of spring migration going on at the 2023 Snow Goose Festival in Tofield, Alberta on April 22 & 23! Everyone is welcome to come out and enjoy the awesome spectacle of thousands of snow geese, Canada geese, shorebirds, cranes, and swans passing over the Beaverhill Lake area this spring.<br /><br />Bring your binoculars, spotting scopes, cameras, and sense of adventure!  The festival features FREE ACTIVITIES, including a Trade Show in the Tofield Arena (8 am - 6 pm) with vendors, speakers, and activities for the entire family.  Take advantage of the FREE SHUTTLE from the Bethel Transit Terminal in Sherwood Park to get to the festival.  Sign up for 2 or 3 hour wildlife and bird viewing bus tours of local birding hotspots, or register for a 3-hour guided hike.  Finally, tickets are available for a banquet and silent auction! <br /><br />With so much to see and do, there is something for everyone!<br />\n\n</BODY>\n</HTML>

LOCATION:4748 53 Ave, Tofield, AB T0B 4J0, Canada
END:VEVENT

END:VCALENDAR
