BEGIN:VCALENDAR
VERSION:2.0
PRODID:-//hacksw/handcal//NONSGML v1.0//EN
BEGIN:VEVENT
UID:6db4b51ece40beefb1fae1a0e2d97559
DTSTAMP:20260420T013624Z

DTSTART:20230709T100000
DTEND:20230718T180000
SUMMARY:Saskatchewan Jazz Festival 2023, Saskatoon, SK - 09.07.2023
DESCRIPTION:The SaskTel Saskatchewan Jazz Festival takes place Friday, June 30th, to Sunday, July 9th, 2023 at Victoria Park along the beautiful South Saskatchewan River in Saskatoon,\nThe incredible lineup for July 6th includes Amanda Marshall, The Beaches, Priyanka, Mauvey, and STORRY.\n10 Days of talent!\nThis year, the ticketed lineup will run for the last four days of the festival on July 6, 7, 8, and 9. \nEach of the four ticketed days will be done on a day pass system, featuring five artists per day. \nYou can purchase a 1, 2, 3, or 4-day pass.\nCome experience awesome Jazz, Blues, Funk, Pop music and so much more.\nSo much for everyone to enjoy, Yoga, Beer Gardens, Food Trucks, a local Artisan Market, an Art Show and classes, a Family Fun Zone, and more.\n\n#saskjazz2023

X-ALT-DESC;FMTTYPE=text/html:<!DOCTYPE HTML PUBLIC "-//W3C//DTD HTML 3.2//EN">\n<HTML>\n<HEAD>\n<META NAME="Generator" CONTENT="MS Exchange Server version 08.00.0681.000">\n<TITLE></TITLE>\n</HEAD>\n<BODY>\n<!-- Converted from text/rtf format -->\n\nThe SaskTel Saskatchewan Jazz Festival takes place Friday, June 30th, to Sunday, July 9th, 2023 at Victoria Park along the beautiful South Saskatchewan River in Saskatoon,<br />The incredible lineup for July 6th includes Amanda Marshall, The Beaches, Priyanka, Mauvey, and STORRY.<br />10 Days of talent!<br />This year, the ticketed lineup will run for the last four days of the festival on July 6, 7, 8, and 9. <br />Each of the four ticketed days will be done on a day pass system, featuring five artists per day. <br />You can purchase a 1, 2, 3, or 4-day pass.<br />Come experience awesome Jazz, Blues, Funk, Pop music and so much more.<br />So much for everyone to enjoy, Yoga, Beer Gardens, Food Trucks, a local Artisan Market, an Art Show and classes, a Family Fun Zone, and more.<br /><br />#saskjazz2023\n\n</BODY>\n</HTML>

LOCATION:Victoria Park, meets Spadina Cres, Avenue F S, Saskatoon, SK S7M 1E8, Canada
END:VEVENT

END:VCALENDAR
