BEGIN:VCALENDAR
VERSION:2.0
PRODID:-//hacksw/handcal//NONSGML v1.0//EN
BEGIN:VEVENT
UID:01af46751d21ec718efb2cfd5634114e
DTSTAMP:20260421T235941Z

DTSTART:20230806T100000
DTEND:20230808T170000
SUMMARY:Loud as Hell Music Festival 2023, Drumheller, Alberta - 06.08.2023
DESCRIPTION:The Loud as Hell Music Festival at Dinosaur Downs Park in Drumheller, Alberta has released the 2023 line-up - JUNGLE ROT, NARCOTIC WASTELAND, INCITE, NECRONOMICON, THE CONVALESCENCE, ARRIVAL OF AUTUMN, and more!\n3 days of incredible music in the Badlands of Alberta\nWeekend Passes are $150.00 and available now online.

X-ALT-DESC;FMTTYPE=text/html:<!DOCTYPE HTML PUBLIC "-//W3C//DTD HTML 3.2//EN">\n<HTML>\n<HEAD>\n<META NAME="Generator" CONTENT="MS Exchange Server version 08.00.0681.000">\n<TITLE></TITLE>\n</HEAD>\n<BODY>\n<!-- Converted from text/rtf format -->\n\nThe Loud as Hell Music Festival at Dinosaur Downs Park in Drumheller, Alberta has released the 2023 line-up - JUNGLE ROT, NARCOTIC WASTELAND, INCITE, NECRONOMICON, THE CONVALESCENCE, ARRIVAL OF AUTUMN, and more!<br />3 days of incredible music in the Badlands of Alberta<br />Weekend Passes are $150.00 and available now online.\n\n</BODY>\n</HTML>

LOCATION:Box 1092, Drumheller, AB T0J 0Y0, Canada
END:VEVENT

END:VCALENDAR
